BEGIN:VCALENDAR
VERSION:2.0
X-WR-TIMEZONE:Europe/Paris
PRODID:-//Audencia//NONSGML v1.0//EN
CALSCALE:GREGORIAN
BEGIN:VEVENT
SUMMARY:Club Audencia Transitions : A la découVerte de l’agriculture urbaine
DTSTART:20220917T110000
DTEND:20220917T130000
UID:1231
DTSTAMP:20260425T210406
LOCATION:3/7 rue Albert Marquet 75020 Paris
DESCRIPTION:A la découVerte de l’agriculture urbaine\n\n \nVous êtes curieux d’en apprendre plus sur l’agriculture urbaine, de mieux connaître son impact écologique et social sur la ville, et d’explorer des toits de Paris luxuriants de verdure ?\n\nNous sommes heureux de vous inviter à une visite guidée de la ferme urbaine de Cuisine Mode d’Emploi(s) dans le 20ème arrondissement de Paris.\n\nPerchés sur le toit de cette école de cuisine innovante créée par Thierry Marx, nous vous proposerons de déambuler entre les cultures verticales et horizontales pour y découvrir diverses variétés potagères. Nous vous expliquerons les principes de l’agriculture urbaine, les techniques utilisées par l’équipe agronomique (hydroponie, aquaponie, bacs en terre) et les différentes problématiques auxquelles nous faisons face en milieu urbain.\n\nEn plus de la visite guidée, vous apprendrez à fabriquer du papier ensemencé à base de papiers, cartons recyclés et petites graines. Cette méthode surprenante et ludique vous permettra d’offrir des petits mots écologiques : 100% biodégradable, il suffit de planter votre papier pour fleurir votre intérieur !\n \nAttention, le nombre de places est limité ! \nInscription obligatoire avec une petite participation.\n\nDes questions ? : nushad.merchant@audencia.com\n\n \n\nCette visite guidée vous est proposée par le Club Transitions et DécouVerte Urbaine, une agence événementielle spécialisée dans l’agriculture urbaine fondée par Anaïs Hamon (GE15). \n\nPassionnée par la végétalisation des villes, Anaïs a décidé de se reconvertir dans l'agriculture urbaine il y a quelques années. En gagnant en expérience, elle a réalisé que les fermes avaient besoin de se faire connaître du grand public, mais qu'elles manquaient souvent de temps pour mettre en place des visites et des ateliers. C'est pourquoi elle a décidé de créer DécouVerte Urbaine et de proposer des teambuildings, sorties d’équipes et séminaires pour les entreprises, et des visites atypiques pour les particuliers dans une douzaine de fermes citadines partenaires.\n\n \nInformations pratiques : \n\nDate : le samedi 17 septembre de 11h à 13h\n\nDate limite d’inscription : vendredi 9 septembre\n\nPérimètre géographique : Paris\n\nLieu : 3/7 rue Albert Marquet, 75020 Paris\n\n\n\n\n\n\n 
BEGIN:VALARM
ACTION:DISPLAY
TRIGGER:-PT60M
DESCRIPTION:Club Audencia Transitions : A la découVerte de l’agriculture urbaine
END:VALARM
END:VEVENT
END:VCALENDAR