BEGIN:VCALENDAR
VERSION:2.0
X-WR-TIMEZONE:Europe/Paris
PRODID:-//Audencia//NONSGML v1.0//EN
CALSCALE:GREGORIAN
BEGIN:VEVENT
SUMMARY:Alumni Around the World 2022 in Washington DC
DTSTART:20220403T140000
DTEND:20220403T160000
UID:1227
DTSTAMP:20260425T210603
LOCATION:Sauf Haus beer hall 1216 18th St NW Washington DC 20036
DESCRIPTION:#Audencia_Worldwide\n\nAudencians in Washington DC have raised their hands to join the fun!\nAs this will be the first ever gathering in DC, it's going to be laid back (the sport will come in later!). Come and find out who is in the area by coming to the Sauf Haus beer hall for 2pm on Sunday 3 April.\n\nMake sure you have an Audencia logo or souvenir with you to be able to find your friends!\n \n\n\n\n\n“Audencia Around the World” will begin on 17 March, and will travel to cities on all five continents for a full month before coming to a close on 18 April. This event is for alumni and students who are currently living and working in different cities worldwide.\n\nIn 2022, for its fourth edition, Audencians around the world will embark on a slightly different journey. With a nod to the School's motto “never stop daring”, alumni ambassadors have been creative, inventive and resourceful in devising daring challenges across the globe. Your challenge, should you choose to accept it, is to join them for a daring activity.\n\n\nDiscover what else is happening for Around the World 2022:\n\n \n\n\n \n\n\nIf you can’t find an event taking place near you, drop us a line and we’ll help you set one up! Depending on the health restrictions in your city/country, your chosen activity may be in a group or on your own.
BEGIN:VALARM
ACTION:DISPLAY
TRIGGER:-PT60M
DESCRIPTION:Alumni Around the World 2022 in Washington DC
END:VALARM
END:VEVENT
END:VCALENDAR