BEGIN:VCALENDAR
VERSION:2.0
X-WR-TIMEZONE:Europe/Paris
PRODID:-//Audencia//NONSGML v1.0//EN
CALSCALE:GREGORIAN
BEGIN:VEVENT
SUMMARY:Conférence : Quel avenir pour l'Ukraine ?
DTSTART:20220329T170000
DTEND:20220329T190000
UID:1225
DTSTAMP:20260425T210406
LOCATION:Audencia 8 Route de la Jonelière 44312 Nantes
DESCRIPTION:Audencia vous convie à un temps d'échanges le mardi 29 mars de 17h à 19h afin de vous apporter un éclairage sur la situation particulièrement compliquée que traverse aujourd'hui l'Ukraine.\n\nCette conférence sera animée par Clément LESORT et nous aurons le plaisir d'accueillir 3 personnalités qui nous partageront leurs visions et leurs témoignages sur la situation Ukrainienne : \n\n\n	\n	Michel GOYA , Militaire-historien et auteur spécialisé dans l'histoire militaire et l'analyse des conflits\n	\n	\n	David R.MARPLE,  Historien canadien, spécialisé dans  l'histoire et la politique contemporaine de la Biélorussie, de la Russie et de l'Ukraine\n	\n	\n	Yuliya SHYMKO, Professeur à Audencia dans le département Etudes organisationnelles et éthiques\n	\n\n\nNous vous invitons à vous inscrire à la conférence qui se tiendra en présentiel dans l'Amphi Edit de Nantes mais également en distanciel pour celles et ceux qui ne pourraient pas être présents sur Atlantic campus.\n\n \n\nLe lien de connexion vous sera transmis la veille de l'évènement. \nInscriptions => https://bit.ly/3JxBG3b\n\nSi vous avez des questions, nous vous invitons à nous contacter via l'email suivant : events@audencia.com.  \n\n \n\n************\n \n\nIn the context of the war in Ukraine, Audencia invites you to a discussion on March 29 from 5:00 to 7:00 p.m. in order to shed light on the situation that Ukraine is currently experiencing.\n\nThis conference will be moderated by Clément LESORT and we will have the pleasure of welcoming 3 key figures who will share their views and testimonies on the Ukrainian situation:\n\n\n	\n	Michel GOYA, Military historian and author specialising in military history and conflict analysis\n	\n	\n	David R.MARPLE, Canadian historian, specialised in the history and contemporary politics of Belarus, Russia and Ukraine\n	\n	\n	Yuliya SHYMKO, Belarusian Professor at Audencia\n	\n\n\nWe invite you to register for the conference which will be held in person in the Edit Amphi in Nantes, but also remotely for those who cannot be present on the Atlantic campus.\n \n\nThe connection link will be sent to you the day before the event.\nRegistrations => https://bit.ly/3JxBG3b\n\nIf you have any questions, please contact us via the following email : events@audencia.com.\n\n\n\n
BEGIN:VALARM
ACTION:DISPLAY
TRIGGER:-PT60M
DESCRIPTION:Conférence : Quel avenir pour l'Ukraine ?
END:VALARM
END:VEVENT
END:VCALENDAR