BEGIN:VCALENDAR
VERSION:2.0
X-WR-TIMEZONE:Europe/Paris
PRODID:-//Audencia//NONSGML v1.0//EN
CALSCALE:GREGORIAN
BEGIN:VEVENT
SUMMARY:London Career Forum ONLINE 2022
DTSTART:20220409T090000
DTEND:20220410T180000
UID:1223
DTSTAMP:20260425T210204
LOCATION:
DESCRIPTION:\n \n\nLondon Career Forum ONLINE, where companies looking to actively hire EU & UK students will participate, will be held! \n\nDate：9 April (Sat.) & 10 April (Sun.)\n\nWHAT IS THE LONDON CAREER FORUM ONLINE?\n\nDay1：9 April (Sat.) 10:00～13:00 CET\n\nCompany short seminars & networking event - Get to know & discover companies -\nThe key to job hunting is to increase the number of companies you know. As with the Career Forms held in-person, you will have the chance to interact with company representatives. You can get an overview of the company by participating in their seminars, and directly asking questions at the networking event.\nNetworking between job seekers and group advising will also be available.\n\nDay2：10 April (Sun.) 9:00～13:00 CET\n\nSeminars from London CF Online Participating Companies & Q&A -Understand the positions and interview process-\nGet details about the positions available by companies actively looking to hire UK/EU students. Learn what companies are looking for in candidates, common characteristics of successful employees, hear stories from employees with study abroad experience as well as tips on interviews, selection process, etc. You'll also have a chance to directly ask company representatives questions via Q&A.\nUtilise this opportunity as past participants have to efficiently gather company information at once.\n\n※Participating in both Day1 & Day2 will allow you to make the most use of the London Career Forum Online. We strongly recommend participating on both days!\n\n▽Event Details\nhttps://careerforum.net/en/contents/ukeu\n\nPARTICIPATE IN CFN SEMINARS TO FULLY UTILISE THE LONDON CF ONLINE\n\nUnderstand the flow of the event and also get tips by participating in the following seminars!\n(1) Prep seminar\n(2) How-to seminar\n(3) Job offer seminar\n(4) Held on-site: Career & Social event\n(5) Introduction of participating companies\n\n＜TIPS for participating in seminars＞\n\n・First time using CF or never watched previous seminars:\nParticipate in the order of (1) → (2) → (3) → (5)\n------\n・For those who have previously participated in CFN's seminar about resume creation:\nSkip (1) and Participate in the order of (2)→(3)→(5)\n------\n・For those who will be in/near London on 5 March (Sat.):\nParticipate in the (4) Career & Social event in London\nThere have been many requests from UK&EU students to provide an opportunity where students can connect with each other, participate in social events, and have individual advising sessions in-person, so here it is!\n------\n▽Details to all 5 seminars\nhttps://careerforum.net/en/contents/ukeu/#seminar\n\nGROUP ADVISING FOR EU & UK STUDENTS \n\nFor those wondering what to do to prepare for London CF ONLINE until CFN seminars start, please feel free to join the group advising session.\nCFN staff supporting careers in the UK & EU for many years will answer any questions you may have. All students can participate.\n\n▽Register\nhttps://careerforum.net/en/cfn_seminar/138/\n\n\nContact:\nDISCO, Inc, CFN (CareerForum.Net)　Maiko Yoshida\ncfn@careerforum.net
BEGIN:VALARM
ACTION:DISPLAY
TRIGGER:-PT60M
DESCRIPTION:London Career Forum ONLINE 2022
END:VALARM
END:VEVENT
END:VCALENDAR