BEGIN:VCALENDAR
VERSION:2.0
X-WR-TIMEZONE:Europe/Paris
PRODID:-//Audencia//NONSGML v1.0//EN
CALSCALE:GREGORIAN
BEGIN:VEVENT
SUMMARY:Club Run Audencia - Marathon de Paris
DTSTART:20220403T090000
DTEND:20220403T160000
UID:1221
DTSTAMP:20260425T211242
LOCATION:Paris
DESCRIPTION:Le Club Run Audencia participe au Marathon de Paris le dimanche 3 avril.
BEGIN:VALARM
ACTION:DISPLAY
TRIGGER:-PT60M
DESCRIPTION:Club Run Audencia - Marathon de Paris
END:VALARM
END:VEVENT
END:VCALENDAR