BEGIN:VCALENDAR
VERSION:2.0
X-WR-TIMEZONE:Europe/Paris
PRODID:-//Audencia//NONSGML v1.0//EN
CALSCALE:GREGORIAN
BEGIN:VEVENT
SUMMARY:SAI - Join the international recruitment panel for the Grande Ecole programme, Chennai, India
DTSTART:20171107T140000
DTEND:20171107T163000
UID:122
DTSTAMP:20260425T210030
LOCATION:BUREAU DE FRANCE, 6th Floor,  Bannari Amman Towers, Dr. Radha Krishnan Salai,  Mylapore, Chennai - 600004
DESCRIPTION:Do you want to help find the next generation of successful students?\n\nIf you graduated from Audencia (all programmes) 3 or more years ago, join panel members in Chennai on 7th November from 14.00-16.30 at \n \nBUREAU DE FRANCE, 6th Floor, \nBannari Amman Towers, Dr. Radha Krishnan Salai, \nMylapore, Chennai - 600004\n \n\n\n	Be a part of the selection process and participate in the international promotion of Audencia.\n	Meet for 30 minutes with 4 to 5 different candidates, talk about their project, your experiences with their future school, and fill in an evaluation grid.\n	Meet alumni from other Grandes Ecoles and grow your network.\n\n \n\nFor more information or to register\nSend an email to: sai@cci-paris-idf.fr\n\n 
BEGIN:VALARM
ACTION:DISPLAY
TRIGGER:-PT60M
DESCRIPTION:SAI - Join the international recruitment panel for the Grande Ecole programme, Chennai, India
END:VALARM
END:VEVENT
END:VCALENDAR