BEGIN:VCALENDAR
VERSION:2.0
X-WR-TIMEZONE:Europe/Paris
PRODID:-//Audencia//NONSGML v1.0//EN
CALSCALE:GREGORIAN
BEGIN:VEVENT
SUMMARY:Isegoria :  Conférence/Débat Sergueï Jirnov
DTSTART:20220321T183000
DTEND:20220321T200000
UID:1219
DTSTAMP:20260425T210325
LOCATION:Amphi Edit de Nantes Atlantic campus Audencia Nantes
DESCRIPTION:Les étudiants du mandat 2022 de l'association Isegoria ont le plaisir de vous inviter à leur première conférence animée par Sergueï Jirnov, ancien espion soviétique et russe, journaliste, politologue, économiste et spécialiste en relations internationales et géopolitique, sur le thème :\n \nLa Russie selon Poutine : analyse d'un ancien espion du KGB.\n \nInscriptions > https://bit.ly/3CKZkqa\n\n\n SERGUEI JIRNOV \n\nEx-membre du KGB (service de renseignement de l’URSS), auteur, journaliste et spécialiste en relations internationales, Sergueï Jirnov a bel et bien mené plusieurs vies. \n \n\n	\n	\n\n\n\n	\n		\n			Recruté à l’âge de 23 ans au sein des services secrets de l’URSS, Sergueï Jirnov commence sa carrière d’espion qu’il achèvera en 1991 après la liquidation officielle du KGB et la dislocation de l’URSS. \n			 \n			Il devient alors en 1992, journaliste de télévision, enseignant et consultant international entre la Russie, la France et la Suisse. Mais très vite il reçoit une pression importante de son ancien service afin de le récupérer dans ses rangs. \n			 \n			En 2001, Sergueï Jirnov demande l’asile en France face aux menaces que lui adressent les dirigeants politiques russes.\n			 \n			Très présent sur la scène médiatique française, il donne de nombreuses interviews afin de partager son histoire. En 2021 il a participé à la rédaction du livre KGB-DGSE, deux espions face à face.  \n			 \n			En plein tournant historique de la politique étrangère russe avec l’invasion de l’Ukraine, Sergueï Jirnov nous partagera sa vision du comportement de la Russie et sa stratégie diplomatique face à ses alliés et ses partenaires économiques. \n		\n	\n
BEGIN:VALARM
ACTION:DISPLAY
TRIGGER:-PT60M
DESCRIPTION:Isegoria :  Conférence/Débat Sergueï Jirnov
END:VALARM
END:VEVENT
END:VCALENDAR