BEGIN:VCALENDAR
VERSION:2.0
X-WR-TIMEZONE:Europe/Paris
PRODID:-//Audencia//NONSGML v1.0//EN
CALSCALE:GREGORIAN
BEGIN:VEVENT
SUMMARY:Golf Trophy Audencia - 8 juillet - Paris
DTSTART:20220708T123000
DTEND:20220708T200000
UID:1218
DTSTAMP:20260425T210211
LOCATION:Golf de la Vaucouleurs 709, rue de l'Église 78910 Civry-la-Forêt
DESCRIPTION:Découvrez le nouveau site dédié\nwww.golftrophy.audencia.com\n\n \n\nVenez golfer, networker\net relever le challenge de la Fondation Audencia\n\nau Golf de la Vaucouleurs\n\n\n \nTestez votre swing dans le cadre de charme d’une ancienne ferme restaurée à moins d’une heure de Paris. Créé en 1987 par l’architecte Michel Gayon, ce superbe parcours de l’ouest parisien s’étend sur un domaine de 120 hectares.\n\nLe club offre deux parcours de 18 trous : "La Rivière" et "Les vallons". Tous deux sont très différents autant esthétiquement que techniquement.\n« La Rivière », sur lequel vous jouerez, offre un parcours technique et boisé, avec de nombreux bunkers et obstacles d’eau. Les greens rapides et pentus descendant vers la Vaucouleurs sont très exigeants et sont un véritable challenge à relever ! Ce par 73 de 6138 mètres reste tout de même accessible à tous les golfeurs. Venez défier les pentes de La Rivière ! Laissez-vous prendre au jeu et surprenez-vous à chercher au détour de certains points de vue des toiles sorties de votre imagination ou pourquoi pas de celle d'un peintre amoureux de la campagne d’Ile de France….\n \nAvec le soutien de :\n\n        \n\n\n\n Un trophée, plusieurs golfs dans le monde !\n\nPour la première fois, le Golf Trophy Audencia, aura lieu dans différents golfs en France et à l'international. Consultez les golfs participants ici.\n\n\n​ Formule de jeu solidaire\n\nSur un 18 trous, des équipes de 3 jouent en formule scramble :\nA chaque coup, c’est la meilleure balle des 3 joueurs qui est retenue. Une formule qui permet à chacun de jouer selon son niveau.\nLa compétition se déroulera au profit de la Fondation Audencia en fonction du résultat des joueurs.\n\n>> Constituez vos équipes de 3 avec des golfeurs Alumni d'Audencia ou non Alumni. Le Trophée est ouvert à tous !\n\n \n\n Programme\n\n\n	12h30 : accueil\n	13h30 : départs pour le parcours\n	18h : remise des prix de la meilleure équipe 'locale'.\n	18h30 : cocktail au Club House du Golf.\n\n\nMARDI 12 JUILLET - 13h (heure Paris)\nUne remise des prix mondiale aura lieu en visio-conférence avec l'ensemble des participants de tous les golfs. [programme à venir]\n\n \n\n \n\n Inscrivez-vous !\n\nEn tant que joueur - 45 € :\nAfin de valider votre inscription, il est nécessaire de :\n1) vous inscrire sur ce site (en haut à droite) en réglant votre participation de 45€ ;\n2) remplir un formulaire en cliquant ici. Un seul formulaire par joueur.\n\nInscription au cocktail seulement - gratuit :\nUne seule étape pour vous : remplir le formulaire en cliquant ici.\nNous vous inscrirons sur le site par la suite.\n\n \n Des questions ?\n\nN'hésitez pas à contacter Laetitia Caliez, lcaliez@audencia.com\n\n \n\n \n\n\nParticipez à un trophée de golf inédit \ndans un cadre exceptionnel !\n\n\n\n 
BEGIN:VALARM
ACTION:DISPLAY
TRIGGER:-PT60M
DESCRIPTION:Golf Trophy Audencia - 8 juillet - Paris
END:VALARM
END:VEVENT
END:VCALENDAR