BEGIN:VCALENDAR
VERSION:2.0
X-WR-TIMEZONE:Europe/Paris
PRODID:-//Audencia//NONSGML v1.0//EN
CALSCALE:GREGORIAN
BEGIN:VEVENT
SUMMARY:2022 EFMD Highered Global Career Fair
DTSTART:20220405T090000
DTEND:20220407T180000
UID:1217
DTSTAMP:20260425T210431
LOCATION:
DESCRIPTION:Audencia will participate in the 2022 EFMD Global Fairs powered by Highered, as part of an exclusive network of top schools across the globe. The Global Fairs are hosted in a virtual environment that allows you to have real-time interaction, including one-to-one live chat with recruiters from leading companies and organizations, as well as video chat when enabled by certain recruiters. \n\nThe 2022 EFMD Global Fairs are open to both students and alumni and will take place over the course of three days, from April 5-7. The event will feature multiple sectors, profile and geographic-specific fairs all on a single platform in a pavilion-style format. \n\nWhat is there for you? \n\nThis is an excellent opportunity to introduce yourself to potential employers, meet with the recruiters and start applying to their opportunities, both local and international. \n\n\nYou can: \n\n\n	\n	Visit the virtual booth of the companies/organizations \n	\n	\n	Attend live webinars/presentations organized by the employers \n	\n	\n	Live chat and interview with recruiters \n	\n\n\n\nEach day you will also be invited to participate in live CV Clinics and the online Digital Conference with top speakers on relevant Careers topics. \n\n\nFollow these steps to register for the EFMD Global Virtual Fairs: \n\n\n	Sign-up to the Audencia's GetHighered platform. If you already have an account, simply log in.  \n	You need to be a verified student or alum to access the full features of your account. If the platform requests a “school email”, simply enter your Audencia email for verification. \n	After verification and successful login, you will see a “Virtual Events” option on the menu at the top of your screen. Click on “Virtual Events”.  \n	Navigate to the event (2022 EFMD Global Fairs Powered by Highered) and click on “Register” to confirm your registration. \n\n\nHow to prepare  \n\n\n	Join the “ Succeed at the 2022 EFMD Global Fairs powered by Highered” webinar on March 29th  at 13:00 CET. \n	Upload your CV on the GetHighered platform under “My Page”  \n	Follow Highered on social media to get more insights:  \n\n\n\n	Highered Linkedin Talent Community: Here \n	Instagram: @gethighered \n	Facebook: https://www.facebook.com/HigheredGlobal \n	LinkedIn: https://www.linkedin.com/company/highered-global \n	Twitter: @Highered_org \n\n\n \n\nFor more information, please visit the official site: https://highered.global/efmd-global-fairs-by-highered/ \n\n\n 
BEGIN:VALARM
ACTION:DISPLAY
TRIGGER:-PT60M
DESCRIPTION:2022 EFMD Highered Global Career Fair
END:VALARM
END:VEVENT
END:VCALENDAR