BEGIN:VCALENDAR
VERSION:2.0
X-WR-TIMEZONE:Europe/Paris
PRODID:-//Audencia//NONSGML v1.0//EN
CALSCALE:GREGORIAN
BEGIN:VEVENT
SUMMARY:CAREER CENTER WEBINAR : Métiers à impact : construire une carrière qui a du sens grâce à Birdeo
DTSTART:20220323T183000
DTEND:20220323T200000
UID:1216
DTSTAMP:20260425T210211
LOCATION:
DESCRIPTION:\nLe Career Center s'associe à Birdeo, leader du recrutement dans les métiers à impact. Étudiants ou diplômés, en quête active de changement ou simples curieux, rencontrez les experts de Birdeo au cours de ce webinar.\n\nAyez une meilleure connaissance des métiers à impact et découvrez les clés pour décrocher ces opportunités !\n\nSession en français\n\nRéunion Microsoft Teams via ce lien :\n\nCliquez ici pour participer à la réunion
BEGIN:VALARM
ACTION:DISPLAY
TRIGGER:-PT60M
DESCRIPTION:CAREER CENTER WEBINAR : Métiers à impact : construire une carrière qui a du sens grâce à Birdeo
END:VALARM
END:VEVENT
END:VCALENDAR