BEGIN:VCALENDAR
VERSION:2.0
X-WR-TIMEZONE:Europe/Paris
PRODID:-//Audencia//NONSGML v1.0//EN
CALSCALE:GREGORIAN
BEGIN:VEVENT
SUMMARY:Be a Boss - Be Entrepreneure
DTSTART:20220512T090000
DTEND:20220512T180000
UID:1215
DTSTAMP:20260425T210438
LOCATION:Audencia Nantes
DESCRIPTION:\n? Be a boss : l’événement national référent de l’entrepreneuriat féminin !\nVous êtes porteuse de projet ou déjà entrepreneure ? Défendez votre société face à un jury expérimenté dans l’entrepreneuriat féminin lors d’une journée 100% femmes entrepreneures.\n? Tentez votre chance dans la région Pays de la Loire en déposant votre dossier de candidature ! Vous avez jusqu’au 21 avril pour candidater\n \n? Evènement le 12 mai 2022 à Audencia : Vous ne souhaitez pas candidater mais simplement participer à l’événement ? Découvrez les futures pépites de votre région portées par des femmes.\n \nINSCRIVEZ-VOUS\n\n? Be a boss: the leading national event for women entrepreneurs!\nAre you a project leader or already an entrepreneur? Stand up for your company in front of an experienced jury in female entrepreneurship during a day dedicated to women entrepreneurs.\n? Try your luck in the Pays de la Loire region by submitting your application! You have until April 21 to apply \n \n? Event on May 12, 2022 at Audencia: You don't want to apply but simply participate to the event? Discover the future start-ups of your region led by women.\n \nREGISTER NOW\n\n\n 
BEGIN:VALARM
ACTION:DISPLAY
TRIGGER:-PT60M
DESCRIPTION:Be a Boss - Be Entrepreneure
END:VALARM
END:VEVENT
END:VCALENDAR