BEGIN:VCALENDAR
VERSION:2.0
X-WR-TIMEZONE:Europe/Paris
PRODID:-//Audencia//NONSGML v1.0//EN
CALSCALE:GREGORIAN
BEGIN:VEVENT
SUMMARY:Spice up - Entrepreneuriat
DTSTART:20220324T133000
DTEND:20220324T220000
UID:1214
DTSTAMP:20260425T210448
LOCATION:la HALLE 6 OUEST (Nantes Université)
DESCRIPTION:\n\nSpice Up c'est l'évènement qui libère vos idées. Que vous ayez un projet déjà bien construit ou une juste une idée en tête, soyez acteur et actrice du monde de demain et venez vous inspirer et partager !\n\nAu programme à la HALLE 6 OUEST (Nantes Université) le 24 mars 2022 :\n? 4 conférences pour s'inspirer,\n? 4 ateliers pour repartir avec de bons conseils,\n? 1 concours de pitchs - Inscription\n? 1 afterwork avec DJ set à La Cantine Numérique\n \n➡ C'est gratuit, INSCRIVEZ-VOUS ! \n \n\nSpice Up is the event that sets your ideas free. Whether you have a well-developed project or just an idea in mind, be an actor in the world of tomorrow and come and get inspired and share your ideas.\n\nOn the agenda at HALLE 6 OUEST (Nantes University) on 24 March 2022:\n? 4 conferences to get inspired,\n? 4 workshops to get good advice,\n? 1 pitch competition - Registration\n? 1 afterwork with DJ set at La Cantine Numérique\n \n➡ It's free, REGISTER NOW! \n\n 
BEGIN:VALARM
ACTION:DISPLAY
TRIGGER:-PT60M
DESCRIPTION:Spice up - Entrepreneuriat
END:VALARM
END:VEVENT
END:VCALENDAR