BEGIN:VCALENDAR
VERSION:2.0
X-WR-TIMEZONE:Europe/Paris
PRODID:-//Audencia//NONSGML v1.0//EN
CALSCALE:GREGORIAN
BEGIN:VEVENT
SUMMARY:Alumni Around the World 2022 in Boston
DTSTART:20220418T090000
DTEND:20220418T180000
UID:1212
DTSTAMP:20260425T210610
LOCATION:Coolidge Corner Brookline, Massachusetts 02446
DESCRIPTION:#Audencia_Worldwide\n\nAs Léa Porterie (GE class of 22) prepares to run the Boston Marathon to raise funds for buildOn on Monday 18 April, Audencians in the city are invited to come and support her!\n\nJoin them to cheer her on at the final event of this year's Around the World!\nLéa suggests meeting on the corner of Coolidge corner just before the finishing line - it's easy to get to.\n\nBring your Audencia merchandise with you to show Léa you're rooting for her!\n\n \n\nFor more information on the Boston Marathon\n\n \n\nFor more information on Léa's fundraising for buildOn\n \n\n\n\n\n“Audencia Around the World” will begin on 17 March, and will travel to cities on all five continents for a full month before coming to a close on 18 April. This event is for alumni and students who are currently living and working in different cities worldwide.\n\nIn 2022, for its fourth edition, Audencians around the world will embark on a slightly different journey. With a nod to the School's motto “never stop daring”, alumni ambassadors have been creative, inventive and resourceful in devising daring challenges across the globe. Your challenge, should you choose to accept it, is to join them for a daring activity.\n\n\n\nDiscover what else is happening for Around the World 2022:\n\n \n\n\n \n\n\nIf you can’t find an event taking place near you, drop us a line and we’ll help you set one up! Depending on the health restrictions in your city/country, your chosen activity may be in a group or on your own.
BEGIN:VALARM
ACTION:DISPLAY
TRIGGER:-PT60M
DESCRIPTION:Alumni Around the World 2022 in Boston
END:VALARM
END:VEVENT
END:VCALENDAR