BEGIN:VCALENDAR
VERSION:2.0
X-WR-TIMEZONE:Europe/Paris
PRODID:-//Audencia//NONSGML v1.0//EN
CALSCALE:GREGORIAN
BEGIN:VEVENT
SUMMARY:Triathlon Audencia La Baule - challenge alumni tri-relais
DTSTART:20220917T120000
DTEND:20220917T153000
UID:1211
DTSTAMP:20260425T210539
LOCATION:La Baule
DESCRIPTION:Participez au tri-relais du triathlon Audencia La Baule !\n\nParticipez au challenge #Alumni lors du tri-relais grand public l'après-midi du samedi 17 septembre. Pas besoin de vous inscrire en ligne, Audencia Alumni vous a réservé 22* équipes de trois personnes (premiers inscrits = premiers servis!).\n\n\n	Constituez votre équipe alumni (un nageur, un coureur, un cycliste)\n	Inscrivez-vous et rajoutez les noms de vos co-équipiers en tant qu'accompagnants sur cet événement (bouton en haut à droite)\n	Préparez votre certificat médical (deadline le 22 juillet)\n	Invitez vos camarades de promo non sportifs à l'after triath' à partir de 18h30 le samedi soir\n\n\nToutes les informations sur la participation, le certificat médical, le pass compétition, l'after triath (et oui...) se trouvent dans l'espace "together" dédié. Pensez à utiliser la fonction "chat" de l'espace together pour rechercher des nageurs, coureurs ou cyclistes pour compléter votre équipe alumni!\n\n\nPour toute question, contactez Katie Francois de l'équipe alumni.\n \n\n Le site web du triathlon Audencia La Baule\n \n\n\n\n\n*Les 22 équipes se distribuent ainsi:\n\n	6 équipes pour le trophée Hervé Gaudillat\n	6 équipes pour l'association Nourette\n	10 équipes d'alumni engagés de tous horizons sportifs!\n
BEGIN:VALARM
ACTION:DISPLAY
TRIGGER:-PT60M
DESCRIPTION:Triathlon Audencia La Baule - challenge alumni tri-relais
END:VALARM
END:VEVENT
END:VCALENDAR