BEGIN:VCALENDAR
VERSION:2.0
X-WR-TIMEZONE:Europe/Paris
PRODID:-//Audencia//NONSGML v1.0//EN
CALSCALE:GREGORIAN
BEGIN:VEVENT
SUMMARY:Triathlon Audencia La Baule - l'after triath'
DTSTART:20220917T183000
DTEND:20220917T220000
UID:1209
DTSTAMP:20260425T205947
LOCATION:La Baule (TBC)
DESCRIPTION:Chers diplômé(e)s,\n\nVous êtes inscrit(e) au 35ème Triathlon Audencia La Baule \nOu vous venez supporter vos ami(e)s,\nOu tout simplement vous habitez la région,\n\nVenez nous retrouver à l'after Triath'​ !\n \nLe samedi 17 septembre 2022\nde 18h30 à 22h\nchez Monica - Le Clan des Mamma\n24, boulevard Hennecart\n44500 La Baule-Escoublac\n \n \n
BEGIN:VALARM
ACTION:DISPLAY
TRIGGER:-PT60M
DESCRIPTION:Triathlon Audencia La Baule - l'after triath'
END:VALARM
END:VEVENT
END:VCALENDAR