BEGIN:VCALENDAR
VERSION:2.0
X-WR-TIMEZONE:Europe/Paris
PRODID:-//Audencia//NONSGML v1.0//EN
CALSCALE:GREGORIAN
BEGIN:VEVENT
SUMMARY:Alumni Around the World 2022 in New York (and other US cities!)
DTSTART:20220317T183000
DTEND:20220317T193000
UID:1208
DTSTAMP:20260425T210052
LOCATION:
DESCRIPTION:#Audencia_Worldwide\n\nAudencians in New York and cities around the USA are rising to the challenge! Between 17 March and 18 April, they will be daring one another to compost their food scraps and other organic matter to see which household gets closest to zero waste.\n\nTo help them on their way, Kevin Hamon (GE 19), co-founder of OuiValo, will share his composting tips and tricks.\nJoin the online kickoff session on Thursday 17 March at 6:30pm New York time (yes, it will be a late night for alumni in France who wish to join!)\n \nPARTICIPATE VIA THIS LINK\n(Teams)\n\nThe winners will be announced after the weigh-in on 18 April!\n\n\n\n“Audencia Around the World” will begin on 17 March, and will travel to cities on all five continents for a full month before coming to a close on 18 April. This event is for alumni and students who are currently living and working in different cities worldwide.\n\nIn 2022, for its fourth edition, Audencians around the world will embark on a slightly different journey. With a nod to the School's motto “never stop daring”, alumni ambassadors have been creative, inventive and resourceful in devising daring challenges across the globe. Your challenge, should you choose to accept it, is to join them for a daring activity.\n\n\nDiscover what else is happening for Around the World 2022:\n\n \n\n\n \n\n\nIf you can’t find an event taking place near you, drop us a line and we’ll help you set one up! Depending on the health restrictions in your city/country, your chosen activity may be in a group or on your own.
BEGIN:VALARM
ACTION:DISPLAY
TRIGGER:-PT60M
DESCRIPTION:Alumni Around the World 2022 in New York (and other US cities!)
END:VALARM
END:VEVENT
END:VCALENDAR