BEGIN:VCALENDAR
VERSION:2.0
X-WR-TIMEZONE:Europe/Paris
PRODID:-//Audencia//NONSGML v1.0//EN
CALSCALE:GREGORIAN
BEGIN:VEVENT
SUMMARY:Intercultural Festival 2022
DTSTART:20220317T123000
DTEND:20220317T183000
UID:1207
DTSTAMP:20260425T210124
LOCATION:Gym, Audencia Atlantic Campus, Nantes
DESCRIPTION:\n\n\n\nLe Festival interculturel d’Audencia, qu’est-ce que c’est ?\n\nC’est l’opportunité de découvrir et faire découvrir la multiculturalité d’Audencia. Danse, musique, gastronomie… laissez libre cours à votre imagination !\n\nRendez-vous le 17 mars, à partir de 12h30 dans le gymnasium Atlantic Campus Audencia (pas besoin d'inscription). \n\nVous voulez voir en image ce que ça donne ? Voilà le lien ICF IV 2020 en présentiel !\n\nEmbracing differences, celebrating diversity!\n\n\n\nIntercultural Festival (ICF), what is it? \n\nIt’s an opportunity to discover the multiculturality of Audencia through various talent shows: dancing, singing, poetry, food… you name it!\n\nJoin us on March 17th starting from 12:30 pm in the Gymnasium Atlantic Campus (no need to register). \n\nHere is a video link ICF IV taken place on campus!\n\nEmbracing differences, celebrating diversity!\n\n\n\n\n 
BEGIN:VALARM
ACTION:DISPLAY
TRIGGER:-PT60M
DESCRIPTION:Intercultural Festival 2022
END:VALARM
END:VEVENT
END:VCALENDAR