BEGIN:VCALENDAR
VERSION:2.0
X-WR-TIMEZONE:Europe/Paris
PRODID:-//Audencia//NONSGML v1.0//EN
CALSCALE:GREGORIAN
BEGIN:VEVENT
SUMMARY:Alumni Around the World 2022 in Düsseldorf
DTSTART:20220407T190000
DTEND:20220407T220000
UID:1204
DTSTAMP:20260425T210143
LOCATION:Bistro Erminig Mutter-Ey Strasse 5 40213 Düsseldorf
DESCRIPTION:#Audencia_Worldwide\n\nAudencians in Düsseldorf will be holding Breton-style gathering in the company of everyone's favourite professor, Uwe Supper. \nCome and join Uwe and Audencian alumni from 19:00 on Thursday 7 April  at the Eminig Crêperie in Düsseldorf (Mutter-Ey Strasse 5, 40213 Düsseldorf) owned by Mathieu Delacourt (GE 2012).\n \n\n\n\n\n“Audencia Around the World” will begin on 17 March, and will travel to cities on all five continents for a full month before coming to a close on 18 April. This event is for alumni and students who are currently living and working in different cities worldwide.\n\nIn 2022, for its fourth edition, Audencians around the world will embark on a slightly different journey. With a nod to the School's motto “never stop daring”, alumni ambassadors have been creative, inventive and resourceful in devising daring challenges across the globe. Your challenge, should you choose to accept it, is to join them for a daring activity.\n\n\n\nDiscover what else is happening for Around the World 2022:\n\n \n\n\n \n\n\nIf you can’t find an event taking place near you, drop us a line and we’ll help you set one up! Depending on the health restrictions in your city/country, your chosen activity may be in a group or on your own.
BEGIN:VALARM
ACTION:DISPLAY
TRIGGER:-PT60M
DESCRIPTION:Alumni Around the World 2022 in Düsseldorf
END:VALARM
END:VEVENT
END:VCALENDAR