BEGIN:VCALENDAR
VERSION:2.0
X-WR-TIMEZONE:Europe/Paris
PRODID:-//Audencia//NONSGML v1.0//EN
CALSCALE:GREGORIAN
BEGIN:VEVENT
SUMMARY:Club Culture & Management - Les programmes culturels de l'élection présidentielle
DTSTART:20220316T190000
DTEND:20220316T210000
UID:1202
DTSTAMP:20260425T205904
LOCATION:Beaux Arts & Cie 9 Bd de la Madeleine 75001 Paris
DESCRIPTION:La culture n’est jamais présente dans les principales préoccupations des Français au moment de glisser leur bulletin dans l’urne, selon les sondages consacrés à cette question. Cependant, celle-ci représente 2% du PIB et emploie 2.5% de la population active : le monde culturel est donc à la fois acteur et impacté par les problématiques politiques, qu’il s’agisse de souveraineté, de rayonnement international, de retraite, de pouvoir d’achat, d’éducation, ou d’environnement.\n\nQuelle place prend la culture dans les programmes des candidats à la présidentielle ? quels enjeux pour les professionnels du secteur, et pour les publics de la culture ? comment dépasser les oppositions habituelles entre défense du patrimoine et soutien à la création, privé et public? ou entre protection des droits et libertés vis à vis des enjeux économiques ?\n\n \n\n \n\nIntervenants :\n\n\n	\n	Olivier Alexandre \n	chargé de recherche au CNRS, co-auteur de la note sur le "Culture face aux défis du numérique et de la crise" publié par le Conseil d'Analyse Economique\n	\n	\n	Fabrice Raffin \n	socio anthropologue, directeur de recherches de SEA Europe\n	\n	\n	Malika Seguineau \n	présidente du Prodiss, syndicat des entrepreneurs du spectacle\n	\n\n\n \n\nModérateurs :\n\n\n	\n	Julia Strauss\n	Pygmalia/Coach, Présidente c&m\n	\n\n\nRéservez votre place en présentiel ou sur Zoom\n\n \n\nMODALITÉS D'ACCUEIL EN PRÉSENTIEL :\n\n\n	\n	les débats commencent à 19h, l'accueil se fait à partir de 18h30\n	\n	\n	si vous bénéficiez d'un tarif spécial (tarif chômeur ou tarif étudiant à 15€), vous devrez nous présenter un justificatif de moins de 3 mois\n	\n	\n	la présentation d'un pass sanitaire valide ainsi que le port du masque durant le débat vous seront demandés\n	\n\n\n \n\nAu plaisir de vous retrouver,\nL'équipe du Club Culture & Management\n\n\n
BEGIN:VALARM
ACTION:DISPLAY
TRIGGER:-PT60M
DESCRIPTION:Club Culture & Management - Les programmes culturels de l'élection présidentielle
END:VALARM
END:VEVENT
END:VCALENDAR