BEGIN:VCALENDAR
VERSION:2.0
X-WR-TIMEZONE:Europe/Paris
PRODID:-//Audencia//NONSGML v1.0//EN
CALSCALE:GREGORIAN
BEGIN:VEVENT
SUMMARY:MS MOS - Le sport français est-il accro aux paris sportifs ?
DTSTART:20220323T183000
DTEND:20220323T220000
UID:1201
DTSTAMP:20260425T210024
LOCATION:Audencia Campus Paris,  95 Rue Falguière,  75015 Paris
DESCRIPTION:Table ronde : Le sport français est-il accro aux paris sportifs ? \n\n  \n\nSi vous faites partie des amateurs de sport en France et que vous en regardez fréquemment vous ne pouvez pas y échapper : publicités télés, radios, clubs sponsorisés, émissions dédiées ; les opérateurs de paris sportifs sont partout. Rappelez-vous l’Euro de football 2021, impossible de regarder un match sans avoir une multitude de publicités y faisant référence. \n\nAu cours de la table ronde que nous organisons nous aimerions répondre à la problématique suivante : « Faut-il réduire l’influence des bookmakers sur le sport professionnel ? ». \n\nPour se faire nous avons choisi de créer un plan en trois parties : \n\n\n	\n	Betting et addiction : le rôle de l’ANJ (Agence Nationale des Jeux) en France. \n	\n\n\nNous nous intéresserons, entre autres, au rôle de l’ANJ et aux moyens qu’elle a à sa disposition pour faire respecter les lois liées aux jeux d’argents. \n\n\n	\n	L’avenir des partenariats entre bookmakers et ayant droit du sport. \n	\n\n\nNos voisins étrangers (Espagne, Italie) ont déjà interdit le sponsoring maillot et club par une entité du monde des paris. Comment s’en sortent-ils ? Ont-ils repensé leur modèle de sponsoring ? \n\n\n	\n	Les acteurs de substitutions  \n	\n\n\nNous nous demanderons si pour vivre un match plus intensément nous sommes obligés d’avoir de l’argent en jeu. Nous évoquerons aussi l’apparition de nouveaux sponsors dans le monde du sport : les acteurs liés aux domaines des cryptomonnaies qui sont prêts à mettre des sommes très importantes pour promouvoir leur marque. Ces acteurs de substitution ne représentent-ils pas, dans une certaine mesure, les mêmes risques que ceux qu’ils viennent remplacer ? \n\nLe but de cette discussion entre spécialistes du domaine aux avis divergents sera d’évoquer les solutions existantes capables de satisfaire au mieux chaque parti.\n \n\nRendez-vous le mErCREdi 23 mars à 18h30\nsur le campus parisien !\n\n\n\n\n \n \n
BEGIN:VALARM
ACTION:DISPLAY
TRIGGER:-PT60M
DESCRIPTION:MS MOS - Le sport français est-il accro aux paris sportifs ?
END:VALARM
END:VEVENT
END:VCALENDAR