BEGIN:VCALENDAR
VERSION:2.0
X-WR-TIMEZONE:Europe/Paris
PRODID:-//Audencia//NONSGML v1.0//EN
CALSCALE:GREGORIAN
BEGIN:VEVENT
SUMMARY:Soirée InterAlumni "L'Alumni et l'entrepreneuriat à Nantes"
DTSTART:20220324T190000
DTEND:20220324T223000
UID:1200
DTSTAMP:20260425T210204
LOCATION:D-vine 16 ter boulevard de la prairie aux ducs 44000 NANTES
DESCRIPTION:Cette soirée, sur le thème de la dynamique entrepreneuriale à Nantes, est une très belle occasion de réunir les Alumni autour de fondateurs d’entreprises à très forte croissance qui ont choisi l'Ouest pour se développer :\n\n\n	\n	# D-Vine – Thibaut JARROUSSE\n	\n	\n	# Gens de Confiance – Ulrich LE GRAND\n	\n	\n	# Rosemood – Grégoire MONCONDUIT\n	\n\n\net d'autres entrepreneurs encore... \n \n\nNous  profitons également de la participation d'acteurs du développement territorial incontournables tels que  :\n\n\n	\n	# Nantes Saint-Nazaire Développement - Bérénice OUZILLEAU\n	\n	\n	# Imagination Machine - Émilie ABEL\n	\n\n\n\nAu programme :\n\n\n	\n	# Des témoignages de fondateurs dont les parcours pourront nous inspirer,\n	\n	\n	# Des contacts et une présentation des acteurs de l'accompagnement au déploiement d’entreprises à impact à Nantes et à Saint-Nazaire,\n	\n	\n	# Une immersion dans la culture d’entreprise des start-ups/scale-ups,\n	\n	\n	# Des opportunités de carrière dans ces organisations à forts besoins de recrutement, cherchant à attirer des profils de diplômés,\n	\n	\n	# Une soirée conviviale autour d’un buffet et de quelques bonnes bouteilles de vins… \n	\n\n\n\nUn grand merci à tous les intervenants bénévoles et notamment à :\n\n\n	\n	# Bérénice OUZILLEAU de Nantes Saint-Nazaire Développement avec qui l'évènement est organisé et à\n	\n	\n	# Thibaut JARROUSSE qui nous accueillera chez D-Vine et nous régalera de quelques bons vins.\n	 \n	\n\n\nPAF : 12 € pour le buffet (Tarif Early Bird jusqu'au 07/03)\n\nLes inscriptions se font sur la plate forme suivante : https://www.hecalumni.fr/group/pays-de-la-loire/71/calendar/l-entrepreneuriat-a-nantes/2022/03/24/8588\n\nPlaces limitées à 100 participants.\n\nInscription avant le 21 mars midi
BEGIN:VALARM
ACTION:DISPLAY
TRIGGER:-PT60M
DESCRIPTION:Soirée InterAlumni "L'Alumni et l'entrepreneuriat à Nantes"
END:VALARM
END:VEVENT
END:VCALENDAR