BEGIN:VCALENDAR
VERSION:2.0
X-WR-TIMEZONE:Europe/Paris
PRODID:-//Audencia//NONSGML v1.0//EN
CALSCALE:GREGORIAN
BEGIN:VEVENT
SUMMARY:Club Run Audencia - La Grande Course du Grand Paris
DTSTART:20220313T080000
DTEND:20220313T120000
UID:1198
DTSTAMP:20260425T210122
LOCATION:Paris
DESCRIPTION:Le Club Run Audencia participe à la Grande Course du Grand Paris le dimanche 13 mars.
BEGIN:VALARM
ACTION:DISPLAY
TRIGGER:-PT60M
DESCRIPTION:Club Run Audencia - La Grande Course du Grand Paris
END:VALARM
END:VEVENT
END:VCALENDAR