BEGIN:VCALENDAR
VERSION:2.0
X-WR-TIMEZONE:Europe/Paris
PRODID:-//Audencia//NONSGML v1.0//EN
CALSCALE:GREGORIAN
BEGIN:VEVENT
SUMMARY:Annulé : Club In Tech - Atelier Tech For Good
DTSTART:20220428T193000
DTEND:20220428T220000
UID:1196
DTSTAMP:20260425T210207
LOCATION:Audencia Campus Paris 95 rue Falguière 75015 Paris
DESCRIPTION: \n\nANNULE\n\n\nNous sommes heureux de vous inviter à participer à un atelier du Tech for Good Tour le jeudi 28 avril. \n\n\nCet évènement s'inscrit dans le cadre de la 4eme édition d’un tour de France, organisé par makesense et Latitudes – Exploring Tech for Good visant à accélérer les réflexions et le passage à l’action pour construire une tech plus engagée et responsable. ?\n\nNous vous proposons de vivre ce moment de sensibilisation et d'échange, dans les locaux du Campus Paris d'Audencia, le jeudi 28 avril de 19h30 à 21h30 !\n\nLe concept ? Un atelier de deux heures avec au cœur... \n\n? des méthodes participatives permettant à chacun·e de s’approprier les enjeux sociaux et environnementaux liés au numérique, \n\n⚡️ des méthodologies d’intelligence collective permettant aux participants de faire un premier pas dans l’engagement pour construire une tech plus engagée et responsable.\n\n\n\n \n\nQuestions ? : nushad.merchant@audencia.com\n\n 
BEGIN:VALARM
ACTION:DISPLAY
TRIGGER:-PT60M
DESCRIPTION:Annulé : Club In Tech - Atelier Tech For Good
END:VALARM
END:VEVENT
END:VCALENDAR