BEGIN:VCALENDAR
VERSION:2.0
X-WR-TIMEZONE:Europe/Paris
PRODID:-//Audencia//NONSGML v1.0//EN
CALSCALE:GREGORIAN
BEGIN:VEVENT
SUMMARY:MS MOS - Quels enjeux pour l’écoconception et la responsabilité sociétale des événements sportifs en France ?
DTSTART:20220315T180000
DTEND:20220315T200000
UID:1195
DTSTAMP:20260425T210121
LOCATION:Audencia Campus Paris 95 rue Falguière 75015 Paris
DESCRIPTION:Les prochains Jeux olympiques et paralympiques, qui se tiendront à Paris en 2024, proposent un nouveau modèle d’événement sportif, durable et responsable sur les plans environnementaux et sociétaux. En effet, les dernières années ont montré une prise de conscience du fait que le modèle des événements sportifs internationaux, souvent extrêmement polluants et créant des dettes nationales, devait être repensé. À une échelle plus locale, il est également possible d’envisager différemment la conception d’événements sportifs, mais les acteurs en charge manquent parfois d’outils et d’accompagnement pour cela.\n\nLa Charte des 15 engagements écoresponsables est un dispositif d’engagement volontaire qui vise à guider chaque organisateur d’événement sportif dans la réalisation d’un événement écoresponsable, quelle que soit son expérience dans la prise en compte des impacts sociétaux et environnementaux. Créée en 2017 à l’initiative du ministère chargé des Sports avec l’appui du WWF France, la Charte des 15 engagements écoresponsables des organisateurs d’événements sportifs avait engagé plus de 350 événements à réduire leur empreinte environnementale jusqu’en 2020. La nouvelle version de la Charte a été signée le 16 décembre 2021 par une quarantaine d’organisateurs d’événements sportifs, en présence de Roxana Maracineanu, ministre déléguée chargée des Sports, et de Véronique Andrieux, Directrice Générale du WWF France. Les signataires représentent 250 événements nationaux et internationaux organisés chaque année et engagés pour évoluer vers plus d’écoresponsabilité à horizon 2024. Le dispositif exige désormais la publication d’un rapport basé sur une évaluation de l’atteinte des différents objectifs.\n\nCe sont les 15 engagements proposés par la Charte qui ont été au centre du projet pédagogique 2021/2022 proposé aux étudiants du Mastère Spécialisé® en Management Responsable des Organisations Sportives (MS MOS) d’Audencia Business School et encadré par Sport et Citoyenneté. Chaque groupe d’étudiants a été mobilisé sur un travail de recherche sur l’un des 15 engagements et a réalisé plusieurs entretiens avec des organisateurs d’événements, à l’échelle locale et à l’échelle nationale. Ces échanges ont permis aux étudiants de nourrir leurs réflexions et d’alimenter une synthèse finale. Cette conférence est la conclusion de ce projet.\n \n\nLien d'inscription : https://bit.ly/3vuHxCc\n\n\n\n \n\nVeuillez noter que le Pass Vaccinal est obligatoire pour accéder à l'événement.\nChaque participant devra présenter son Pass Vaccinal qui consiste en la présentation, numérique ou papier
BEGIN:VALARM
ACTION:DISPLAY
TRIGGER:-PT60M
DESCRIPTION:MS MOS - Quels enjeux pour l’écoconception et la responsabilité sociétale des événements sportifs en France ?
END:VALARM
END:VEVENT
END:VCALENDAR