BEGIN:VCALENDAR
VERSION:2.0
X-WR-TIMEZONE:Europe/Paris
PRODID:-//Audencia//NONSGML v1.0//EN
CALSCALE:GREGORIAN
BEGIN:VEVENT
SUMMARY:Golf Trophy Audencia - 8 juillet - Nantes
DTSTART:20220708T133000
DTEND:20220708T203000
UID:1194
DTSTAMP:20260425T210053
LOCATION:Golf de l'Ile d'Or 49270 Le Cellier
DESCRIPTION:Découvrez le nouveau site dédié\nwww.golftrophy.audencia.com\n\n \n\nVenez golfer, networker\net relever le challenge de la Fondation Audencia\n\nau Golf de l'Ile d'Or\n\n\n \nVenez golfer sur l’une des merveilleuses îles de la Loire de la commune du Cellier, entre ses frênes centenaires et son dessin de Michel Gayon. Créée en 1988, cette pépite vaut le détour !\nSur un terrain sablonneux, jouable toute l’année, un espace d’entraînement de qualité vous permettra de travailler votre jeu dans d’excellentes conditions.\n \nAvec le soutien de :\n\n        \n\n\n\n Un trophée, plusieurs golfs dans le monde !\n\nPour la première fois, le Golf Trophy Audencia, aura lieu dans différents golfs en France et à l'international. Consultez les golfs participants ici.\n\n\n​ Formule de jeu solidaire\n\nSur un 18 trous, des équipes de 3 jouent en formule scramble :\nA chaque coup, c’est la meilleure balle des 3 joueurs qui est retenue. Une formule qui permet à chacun de jouer selon son niveau.\nLa compétition se déroulera au profit de la Fondation Audencia en fonction du résultat des joueurs.\n\n>> Constituez vos équipes de 3 avec des golfeurs Alumni d'Audencia ou non Alumni. Le Trophée est ouvert à tous !\n\n \n\n Programme\n\n\n	12h30 : accueil\n	13h30 : départ en shotgun et concours sur un trou du parcours contre le Pro., Franck Mora.\n	18h : remise des prix de la meilleure équipe 'locale'.\n	18h30 : cocktail au Club House du Golf.\n\n\nMARDI 12 JUILLET - 13h (heure Paris)\nUne remise des prix mondiale aura lieu en visio-conférence avec l'ensemble des participants de tous les golfs. [programme à venir]\n\n\n \n\n Inscrivez-vous !\n\nEn tant que joueur - 45 € :\nAfin de valider votre inscription, il est nécessaire de procéder à 2 étapes :\n1) vous inscrire sur ce site (en haut à droite) en cliquant sur "s'inscrire" et en réglant votre participation de 45€ ;\n2) remplir un formulaire en cliquant ici. Un seul formulaire par joueur.\n\nInscription au cocktail seulement - gratuit :\nUne seule étape pour vous : remplir le formulaire en cliquant ici.\nNous vous inscrirons sur le site par la suite.\n\n \n Des questions ?\n\nN'hésitez pas à contacter Laetitia Caliez, lcaliez@audencia.com\n\n \n\n \n\n\nParticipez à un trophée de golf inédit \ndans un cadre exceptionnel !\n\n\n\n 
BEGIN:VALARM
ACTION:DISPLAY
TRIGGER:-PT60M
DESCRIPTION:Golf Trophy Audencia - 8 juillet - Nantes
END:VALARM
END:VEVENT
END:VCALENDAR