BEGIN:VCALENDAR
VERSION:2.0
X-WR-TIMEZONE:Europe/Paris
PRODID:-//Audencia//NONSGML v1.0//EN
CALSCALE:GREGORIAN
BEGIN:VEVENT
SUMMARY:Lockin China Global Talent Career Fair: Employment Workshop
DTSTART:20220317T130000
DTEND:20220317T140000
UID:1193
DTSTAMP:20260425T210024
LOCATION:
DESCRIPTION:\n\n\nAbout\n\nAccording to the latest employment situation, delivering a one-stop solution of getting the necessary knowledge and skills for your first job application when graduating in 2022, the workshop will be provided by overseas recruiting experts from Lockin.\n\n- Find out the promising industry;\n- Recommendation of suitable positions;\n- How to make my resume pass the screening?\n- How to prepare for an individual interview?\n \n\nMain Target Group\n\n- Social Recruiting Candidates: for returnees with working experience\n- Campus Recruiting Candidates: Fresh graduates - find your first full-time position! Current students - look for a 2022 summer internship opportunity\n- Already returned: 3 on-site career fairs in Beijing, Shanghai, and Shenzhen\n- Still abroad: 350,000 online positions to apply\n \n\nWorkshop Content - Industry and Position Focus\n\nIndustry: Internet, consulting, finance, manufacturing, etc.\nPosition: Management trainee, data analysis. consulting, computer, big data, engineer, R&D related, etc. \n\n \n\nTopics\n\n- The most frequent channels of job seeking in this spring recruiting season;\n- The promising industries and positions worth applying;\n- For fresh graduates and experienced job seekers, how to make my resume pass the screening?\n- How to prepare for the interview of positions like management trainee, data analysis, marketing, consulting service, finance, CS, etc.\n \n\nDate & Time\n\n20:00 in China / 13:00 in France, March 17th, 2022\n \n\nRegistration\n\nDirectly on the official site: https://promotions.lockinu.com/spring2022/workshop\n \n\nP.S. For more information about the 3 on-site job fairs (Mar. 27 in Shanghai, Apr. 10 in Beijing, Apr. 16 in Shenzhen), refer to: https://promotions.lockinu.com/spring2022/onsite
BEGIN:VALARM
ACTION:DISPLAY
TRIGGER:-PT60M
DESCRIPTION:Lockin China Global Talent Career Fair: Employment Workshop
END:VALARM
END:VEVENT
END:VCALENDAR