BEGIN:VCALENDAR
VERSION:2.0
X-WR-TIMEZONE:Europe/Paris
PRODID:-//Audencia//NONSGML v1.0//EN
CALSCALE:GREGORIAN
BEGIN:VEVENT
SUMMARY:[Postponed] CCI France Chine Event - SCHMIDT Factory Visit
DTSTART:20220316T021500
DTEND:20220316T070000
UID:1192
DTSTAMP:20260425T205842
LOCATION:SCHMIDT Factory Xianning Road, Ningxi Street, Zengcheng District, Guangzhou, Guangdong Province, China
DESCRIPTION:\n\n\n \n\nDue to the COVID-19 situation in Guangdong Province, the factory visit is postponed to another date. We will communicate the reprogramming details in a short time.\n\nThank you for your understanding. \n\n\nIntroduction\n \n\nCCI FRANCE CHINE is very pleased to invite you to visit the SCHMIDT factory and meet their team on Wednesday, March 16th in Guangzhou. It will be a great opportunity to discover their tailor-made product and manufacturing lines, then we will make a tour in their showroom.\n\nDuring this visit, we are also organizing an HR workshop on the Strategy on Talent retention in factories. Different HR managers will present their insights and share their best practices on this topic, ending with a Q&A session. \n \n\nAgenda\n\nGuangzhou CCI FRANCE CHINE office\n                    Gathering: 7:45 am    \n                    Bus departure: 8:00am  \n\nShenzhen CCI FRANCE CHINE office\n                    Gathering: 7:15am   \n                    Bus departure: 7:30am  \n\n- 9:15 am to 9:30 am: Arrival of the participants at SCHMIDT\n- 9:30 am to 11:30 am: Presentation of SCHMIDT and factory visit\n- 11:30 am to 12:30 pm: HR Focus on talent retention in factories and sharing the best practices in terms of HR strategy\n- 12:30 pm: Buffet lunch offered by SCHMIDT\n- 2 pm: Departure to Guangzhou / Shenzhen\n \nCoordinators\n \n\n\n	\n		\n			 \n		\n		\n			\n			Frederic Barbier\n			General Manager\n			SGD Pharma Asia Pacific\n		\n		\n			 \n		\n		\n			\n			Xavier Bruhmuller \n			Plant Manager\n			Dextra Building Products (Guangdong) Co., Ltd. \n		\n	\n\n\n \n\nInformation\n\nDate: Wednesday, March 16th, 2022\nTime: 9:15am - 2:00pm\nLanguage: English\nFees (For CCI FRANCE CHINE members ONLY): Free\nDeparture Points:\nCCI FRANCE CHINE Guangzhou Office Leatop Plaza,32 Zhujiang East Road, Zhujiang New Town, Tianhe District, Canton, 510623   广州市天河区珠江新城珠江东路32号利通广场08层02单元    \nCCI FRANCE CHINE Shenzhen Office R218, 2/F Chinese Overseas Scholars Venture Building, Gao Xin Nan Road, Nanshan District Shenzhen, 518057   深圳市南山区高新南环路留学生创业大厦2楼218室  \nArrival Point: SCHMIDT Factory Xianning Road, Ningxi Street, Zengcheng District, Guangzhou, Guangdong Province 司米橱柜有限公司 广东省广州市增城区宁西街道仙宁路\n \nRegistration \n\nScan the following QR code or click here\n\n\n
BEGIN:VALARM
ACTION:DISPLAY
TRIGGER:-PT60M
DESCRIPTION:[Postponed] CCI France Chine Event - SCHMIDT Factory Visit
END:VALARM
END:VEVENT
END:VCALENDAR