BEGIN:VCALENDAR
VERSION:2.0
X-WR-TIMEZONE:Europe/Paris
PRODID:-//Audencia//NONSGML v1.0//EN
CALSCALE:GREGORIAN
BEGIN:VEVENT
SUMMARY:Conference on diversity & inclusion, Tokyo
DTSTART:20220303T180000
DTEND:20220303T203000
UID:1188
DTSTAMP:20260425T210610
LOCATION:L'Espace@CCIFJ, CCI France Japon Nihonbashi-Honcho YS Building Chuo-ku, Nihombashi-Honcho 2-2-2 103-0023 Tokyo
DESCRIPTION:Women in Business: Why is Diversity & Inclusion in the workplace important? Examples of L’Oreal group and Google Japan\n\nThe French Chamber of Commerce is excited to announce the Women in Business Committee’s next event ‘Why is Diversity & Inclusion in the workplace important?’ happening on March 3, 2022.\n\n18:00 - Reception ＆ Opening\n18:30 - Presentation\n19:30 - Networking\n20:30 - Closing\n\n*Online attendance : from 6.30pm to 7.30pm\n\nJoin Tomoko Kusuda, VP Corporate Affairs & Engagement at L’Oreal Japan and Kaoru Inahara, Director of Brand & Business Marketing at Google Japan for an elevating conversation on the importance of Diversity, Equity, and Inclusion (DEI) programs at their companies.\n\nDEI programs at workplaces are integral for building a thriving workforce and have the power to drive positive impact to the wider society. Tomoko Kusada and Kaoru Inahara will both share examples of how L’Oreal and Google Japan have incorporated DEI programs into their work including the Gender Equity Certification from the Tokyo Metropolitan Government, the importance of empowering employees through employee relations groups like Women@Google, and supporting women entrepreneurs through Women Will.\n\nWe hope to see you there!\n \nREGISTER HERE
BEGIN:VALARM
ACTION:DISPLAY
TRIGGER:-PT60M
DESCRIPTION:Conference on diversity & inclusion, Tokyo
END:VALARM
END:VEVENT
END:VCALENDAR