BEGIN:VCALENDAR
VERSION:2.0
X-WR-TIMEZONE:Europe/Paris
PRODID:-//Audencia//NONSGML v1.0//EN
CALSCALE:GREGORIAN
BEGIN:VEVENT
SUMMARY:Webinar: Careers in Luxembourg
DTSTART:20220302T183000
DTEND:20260425T210141
UID:1187
DTSTAMP:20260425T210141
LOCATION:
DESCRIPTION:\n\nDécouvrez tous les secrets pour trouver un stage/emploi au Luxembourg mercredi 02 mars à partir de 18h30 !\n\nNos experts vous partageront les astuces pour entrer sur le marché de l'emploi au Luxembourg :\n\nNicolas NGUYEN, Campus & Sourcing Manager au sein de Moovijob Luxembourg. Agence d'emploi au Luxembourg https://www.moovijob.com/\n\nLucas BARBRANCE, HR Business Partner au sein de CACEIS Bank au Luxembourg, filiale des groupes Crédit Agricole et Santander.\n\n \n\nClick here to join the meeting
BEGIN:VALARM
ACTION:DISPLAY
TRIGGER:-PT60M
DESCRIPTION:Webinar: Careers in Luxembourg
END:VALARM
END:VEVENT
END:VCALENDAR