BEGIN:VCALENDAR
VERSION:2.0
X-WR-TIMEZONE:Europe/Paris
PRODID:-//Audencia//NONSGML v1.0//EN
CALSCALE:GREGORIAN
BEGIN:VEVENT
SUMMARY:CCI France Chine Webinar: [HeForShe Round Table] International Women's Day
DTSTART:20220308T113000
DTEND:20220308T130000
UID:1184
DTSTAMP:20260425T210211
LOCATION:
DESCRIPTION:\n\n\n\nIntroduction\n\nOn March 8th, CCI FRANCE CHINE will be hosting a mixed-gender roundtable on theme with the HeForShe campaign in honor of international women’s day.  \n\nThe event will be held in person in CCI FRANCE CHINE offices in Beijing, Shanghai, and Guangzhou, and will also be made available via Webinar.  \n\nThis event will allow for the discussion of not only women in modern society, but of the accomplishments that have been made and how they have externally affected businesses and social environments.  \n\nHeForShe is a solidarity campaign for gender equality launched by United Nations Women. Its goal is to involve men and boys in the fight for gender equality and women's rights, by encouraging them to take action against the inequalities faced by women and girls.\n\nLearn more about the HeForShe movement  \n\nAgenda\n\n18:00 Welcoming of the participants\n18:30 Beginning of the round-table\n19:30 Q&A\n20:00 Cocktail & Networking\nInformation\n\nDate: Tuesday, 8 March\nTime: 18:00 - 21:00 in China / 11:00 - 14:00 in France\nLanguage: English\nPrice: Free for CCI FRANCE CHINE Members & Audencia Alumni\nVenue: The event will be held in person in CCI FRANCE CHINE offices in:\n\n            Beijing - CCI FRANCE CHINE Beijing Office, Suites 201-222, 2F, Building 81, No 4 Gongti North Road， Chaoyang District, Beijing 100027, P.R.C\n            Shanghai - CCI FRANCE CHINE Shanghai Office, 2/F Mayfair Tower, 83 Fu Min Road, Shanghai 200040, P.R.C\n            Guangzhou - CCI FRANCE CHINE Guangzhou Office, 8/F Leatop Plaza,32 Zhujiang East Road, Guangzhou 510623, P.R.C \n\n*Note: This event will also be made available via Webinar (18:30 - 20:00 in China / 11:30 - 13:00 in France). The connecting processes will be sent by email after registration\nRegistration: Scan the following QR code or click here\n\n\n\n\nSpeakers\n \n\n\n	\n		\n			 \n			 \n		\n		\n			\n			  \n			Julie LAULUSA\n			Executive Board Member; Managing Partner,\n			Mazars Group, Mazars China\n			 \n		\n		\n			 \n			 \n		\n		\n			\n			  \n			Sophie BRETON\n			Senior Vice President APAC\n			Hager Group\n			 \n			 \n		\n		\n			 \n			 \n		\n		\n			\n			 \n			Maggie CHAN\n			Managing Director\n			Sephora Greater China\n			 \n		\n		\n			 \n			 \n		\n		\n			\n			 \n			Kyung-Ae CHOE\n			Managing Director\n			Pierre Fabre\n			 \n		\n		\n			 \n			 \n		\n		\n			\n			 \n			Christina WEI \n			Branch Manager - Guangzhou\n			Bollore Logistics China\n			 \n		\n		\n			 \n			 \n		\n		\n			\n			 \n			Frédéric BARBIER \n			General Manager China & APAC\n			SGD Pharma\n			 \n		\n		\n			 \n			 \n		\n		\n			\n			  \n			Socrate LAO\n			COO & Board Director\n			Société Générale China\n			 \n			 \n		\n		\n			 \n			 \n		\n		\n			\n			  \n			Anthony LOPEZ-M\n			Asia-Pacific Communication Director\n			Saint-Gobain\n			 \n			 \n		\n	\n
BEGIN:VALARM
ACTION:DISPLAY
TRIGGER:-PT60M
DESCRIPTION:CCI France Chine Webinar: [HeForShe Round Table] International Women's Day
END:VALARM
END:VEVENT
END:VCALENDAR