BEGIN:VCALENDAR
VERSION:2.0
X-WR-TIMEZONE:Europe/Paris
PRODID:-//Audencia//NONSGML v1.0//EN
CALSCALE:GREGORIAN
BEGIN:VEVENT
SUMMARY:Afterwork with the MSc FAM students
DTSTART:20220304T200000
DTEND:20220304T220000
UID:1182
DTSTAMP:20260425T210123
LOCATION:La Boissonniere Charonne 52 Rue Léon Frot 75011 Paris
DESCRIPTION:The current Master of Science / MBA in Food and Agribusiness Management (MSc FAM) students will be in Paris from March 4 to 5.\n\nWe would like to take this opportunity to catch up with our FAM and other Audencia alumni working in the food and agribusiness fields. Join us on Friday, March 4 for drinks and dinner at 8pm at La Boissonnière Charonne (Paris 75011).\n\nRegistrations are compulsory!
BEGIN:VALARM
ACTION:DISPLAY
TRIGGER:-PT60M
DESCRIPTION:Afterwork with the MSc FAM students
END:VALARM
END:VEVENT
END:VCALENDAR