BEGIN:VCALENDAR
VERSION:2.0
X-WR-TIMEZONE:Europe/Paris
PRODID:-//Audencia//NONSGML v1.0//EN
CALSCALE:GREGORIAN
BEGIN:VEVENT
SUMMARY:SAI - Join the international recruitment panel for the Grande Ecole programme in Guangzhou, China
DTSTART:20171104T090000
DTEND:20171104T170000
UID:118
DTSTAMP:20260425T210052
LOCATION:Espace Campus France de Canton 法国高等教育署-广州中心  Guangzhou Wuzi dasha, 12 Beijiaochangheng lu, Yuexiu District, Guangzhou 510050
DESCRIPTION:Do you want to help find the next generation of successful students?\n\nIf you graduated from Audencia (all programmes) 3 or more years ago, become a panel member in Guangzhou from 09.00 to 17.00 on 4th November at\n \nEspace Campus France \n法国高等教育署-广州中心 \nGuangzhou Wuzi dasha, 12 Beijiaochangheng lu, Yuexiu District,\nGuangzhou 510050\n\nBe a part of the selection process and participate in the international promotion of Audencia.\nMeet for 30 minutes with 4 to 5 different candidates, talk about their project, your experiences with their future school, and fill in an evaluation grid.\nMeet alumni from other Grandes Ecoles and grow your network.\n\n​\nFor more information or to register\nSend an email to: sai@cci-paris-idf.fr
BEGIN:VALARM
ACTION:DISPLAY
TRIGGER:-PT60M
DESCRIPTION:SAI - Join the international recruitment panel for the Grande Ecole programme in Guangzhou, China
END:VALARM
END:VEVENT
END:VCALENDAR