BEGIN:VCALENDAR
VERSION:2.0
X-WR-TIMEZONE:Europe/Paris
PRODID:-//Audencia//NONSGML v1.0//EN
CALSCALE:GREGORIAN
BEGIN:VEVENT
SUMMARY:Cérémonie de remise des prix du Concours Audace 2022 à Nantes
DTSTART:20220224T190000
DTEND:20220224T203000
UID:1179
DTSTAMP:20260425T210143
LOCATION:Audencia Atlantic Campus 8 route de la Jonelière Nantes
DESCRIPTION:Cérémonie de remise des prix du Concours Audace\nVenez célébrer les talents entrepreneuriaux Made in Audencia et découvrir les lauréats du Concours Audace 2022 parmi les 24 projets en compétition !\n\nLors de cette cérémonie de remise des prix, nous aurons le plaisir d’accueillir comme guests speakers Adrien Poggetti et Coline Mazeyrat - parrain et marraine du Concours cette année.\n\n? Jeudi 24 février 2022, à partir de 19h\n? Audencia Atlantic Campus - 8 route de la Jonelière - Nantes\n \nJE M'INSCRIS\n\nPas à Nantes ce soir là ? Vous pouvez quand même vous inscrire et suivre la retransmission online en direct !\n\nLe Concours Audace est organisé par le Pôle Exploration & Entrepreneuriat d’Audencia, Enactus Audencia, Audencia Club of Entrepreneurship (ACE) et l'Incubateur Centrale-Audencia-Ensa\n \n
BEGIN:VALARM
ACTION:DISPLAY
TRIGGER:-PT60M
DESCRIPTION:Cérémonie de remise des prix du Concours Audace 2022 à Nantes
END:VALARM
END:VEVENT
END:VCALENDAR