BEGIN:VCALENDAR
VERSION:2.0
X-WR-TIMEZONE:Europe/Paris
PRODID:-//Audencia//NONSGML v1.0//EN
CALSCALE:GREGORIAN
BEGIN:VEVENT
SUMMARY:AAGEF winetasting & networking in Ontario, Canada
DTSTART:20220330T180000
DTEND:20220330T200000
UID:1178
DTSTAMP:20260425T210437
LOCATION:Ontario
DESCRIPTION:#Audencia_Worldwide\n\nDuring Audencia Around the World 2022, alumni in Ontario will be able to network and taste wine all at once. You are invited to join AAGEF Ontario's first in-person event for over two years on Wednesday 30 March 2022, from 18:00.\n\n\nChristian Frayssignes is the General Manager and founder of Dymon Wine Cellar, part of the Dymon Group . He is also a Chief Wine Lover and the Honorary President of the European Union Chamber of Commerce in Canada . Prior to that  he had a successful international career in the pharmaceutical industry in France , England and Canada\n\nInspired by the love of wine, DYMON’s private wine cellars combine innovative features with sophisticated is innovative concept and walk us through this incredible project . We will also be able to taste various wines together with some delicious finger foods in this perfect setting for networking back in person after 2 years !\n\nAgenda of this first in person event after 2 years :\n\n- 6.00 PM: Welcome and networking  \n- 7:00 PM : Keynote address and Q&A  \n- 7:30 PM : Networking  \n- 8.00 PM: End\n\nParticipation to the cost is $60 and includes delicious wines and food that will be served as well as rental costs. This was made possible thanks to the sponsorship of Ben Rouaud, whom we thank.\n \nREGISTER HERE\n\n\nFollow AAGEF on LinkedIn for all the latest updates: https://www.linkedin.com/company/72309514 \n\n\n\n\n \n\nAAGEF Ontario, with over 2,000 executives, is a networking association of French Elite Graduate Schools alumni, living and working in Ontario. We also welcome Ontario-based alumni of Canadian and global Elite Universities. \nFollow us on LinkedIn: https://www.linkedin.com/company/72309514 \n
BEGIN:VALARM
ACTION:DISPLAY
TRIGGER:-PT60M
DESCRIPTION:AAGEF winetasting & networking in Ontario, Canada
END:VALARM
END:VEVENT
END:VCALENDAR