BEGIN:VCALENDAR
VERSION:2.0
X-WR-TIMEZONE:Europe/Paris
PRODID:-//Audencia//NONSGML v1.0//EN
CALSCALE:GREGORIAN
BEGIN:VEVENT
SUMMARY:Ontario AAGEF: online conference
DTSTART:20220223T180000
DTEND:20220223T200000
UID:1177
DTSTAMP:20260425T210120
LOCATION:
DESCRIPTION:Join the online conference for an overview of EU-Canada trade relations with Delphine Adenot-Owusu (NEOMA / Universidad Pontificia Comillas ICAI-ICADE), the Executive Managing Director at EUCCAN.\n \n\n\n	Wednesday 23 February 2022\n	18:00-20:00\n	Online (via zoom)\n\n\n \n\n\n \n\nThe EU and Canada have a long-standing relationship. Our society is linked by common interests, democratic values and strong ties between peoples. CETA is entering its fifth year of implementation and EUCCAN believes that the EU and Canada can play an important role in transitioning economies to zero carbon. Delphine will give us an overview of EU-Canada trade relations and what are the main concerns of EU companies operating in Canada and how both side of the Atlantic can better work together.\n \n\nREGISTER NOW\n\n\nAgenda of this online event on zoom\n\n   - 18.00: Welcome and intro\n   - 18:10-18:40: Networking in breakout sessions\n   - 18:40-19:30: EUCCAN address and Q&A\n   - 19:30-20:00: Networking in breakout sessions\n\nThe zoom link and code will be sent a few days before to those who registered. \n \nREGISTER NOW\n\n\n\n \n\n\n \n\nAAGEF Ontario, with over 2,000 executives, is a networking association of French Elite Graduate Schools alumni, living and working in Ontario. We also welcome Ontario-based alumni of Canadian and global Elite Universities. \nFollow us on LinkedIn: https://www.linkedin.com/company/72309514 \n
BEGIN:VALARM
ACTION:DISPLAY
TRIGGER:-PT60M
DESCRIPTION:Ontario AAGEF: online conference
END:VALARM
END:VEVENT
END:VCALENDAR