BEGIN:VCALENDAR
VERSION:2.0
X-WR-TIMEZONE:Europe/Paris
PRODID:-//Audencia//NONSGML v1.0//EN
CALSCALE:GREGORIAN
BEGIN:VEVENT
SUMMARY:MBA round table, networking & cocktails in Paris
DTSTART:20220421T180000
DTEND:20220421T210000
UID:1175
DTSTAMP:20260425T210116
LOCATION:Audencia Paris Campus 95 rue Falguière 75015 Paris
DESCRIPTION:#MBA_Community\n\nTo mark the networking aspect of the MBA class of 2022 learning trip to Paris, members of the MBA community -past and present- are invited to a networking evening.\nDate: Thursday 21 April\nTime: from 18:00 to 21:00\nVenue: Audencia Paris Campus, 95 rue Falguière, 75015 Paris\nOn the programme:\n18:00-19:30 Round table discussions\n\n	​18:00-18:45 Non traditional careers for impact with GE alumnae Nikki Wodehouse & Clara Calipel\n	18:45-19:30: Post-MBA leadership roles with MBA alumnus Damien Le Sourd\n\n19:30-21:00 Cocktail\n\n \n
BEGIN:VALARM
ACTION:DISPLAY
TRIGGER:-PT60M
DESCRIPTION:MBA round table, networking & cocktails in Paris
END:VALARM
END:VEVENT
END:VCALENDAR