BEGIN:VCALENDAR
VERSION:2.0
X-WR-TIMEZONE:Europe/Paris
PRODID:-//Audencia//NONSGML v1.0//EN
CALSCALE:GREGORIAN
BEGIN:VEVENT
SUMMARY:Alumni Around the World 2022 in Amsterdam
DTSTART:20220331T180000
DTEND:20220331T203000
UID:1174
DTSTAMP:20260425T210141
LOCATION:The Pool Bar - Foodhallen Amsterdam Bellamyplein 1053AT Amsterdam
DESCRIPTION:#Audencia_Worldwide\n\nAudencia Alumni in Amsterdam will be welcoming students on their learning trip. This is a fantastic opportunity for Audencians past and present to get together and network:\n\n> 31 March\n> from 6:00pm to 8:30pm\n> The Pool Bar - Foodhallen Amsterdam, Bellamyplein, 1053AT Amsterdam\n \n\nRegistrations are compulsory\n\n\n“Audencia Around the World” will begin on 17 March, and will travel to cities on all five continents for a full month before coming to a close on 18 April. This event is for alumni and students who are currently living and working in different cities worldwide.\n\nIn 2022, for its fourth edition, Audencians around the world will embark on a slightly different journey. With a nod to the School's motto “never stop daring”, alumni ambassadors have been creative, inventive and resourceful in devising daring challenges across the globe. Your challenge, should you choose to accept it, is to join them for a daring activity.\n\n\n\nDiscover what else is happening for Around the World 2022:\n\n \n\n\n \n\n\nIf you can’t find an event taking place near you, drop us a line and we’ll help you set one up! Depending on the health restrictions in your city/country, your chosen activity may be in a group or on your own.
BEGIN:VALARM
ACTION:DISPLAY
TRIGGER:-PT60M
DESCRIPTION:Alumni Around the World 2022 in Amsterdam
END:VALARM
END:VEVENT
END:VCALENDAR