BEGIN:VCALENDAR
VERSION:2.0
X-WR-TIMEZONE:Europe/Paris
PRODID:-//Audencia//NONSGML v1.0//EN
CALSCALE:GREGORIAN
BEGIN:VEVENT
SUMMARY:CCI France Chine Webinar: Brave New Sport - Empowering 21st century society
DTSTART:20220217T090000
DTEND:20220217T120000
UID:1169
DTSTAMP:20260425T211355
LOCATION:
DESCRIPTION:This event, an initiative co-organized by Infront, the Swiss Chamber of Commerce in China, the Benelux Chamber of Commerce in China, and CCI FRANCE CHINE, aims to discuss the future of the sports industry by analyzing provoking anecdotes and scenarios from the book “Brave New Sport” published by Infront and Swiss think tank W.I.R.E. – What place and time better to discuss the future of sports than in Beijing during the 2022 Winter Olympics!\n\n \n\nSport has always prepared people for their life challenges through playful competition. Today, the sports landscape is embedded in a context of unprecedented change: rising health costs, technological disruptions, and climate change pose existential risks for society, the economy, and the environment. Can sport empower humanity to tackle some of the biggest issues of our time?\n\n \n\nJoin us to discuss the future of sports together with our panel of industry experts!\n\n \n\nPanelists\n\nOlivier Ceccaldi\n\nGeneral Manager, Infront China\n\nRomuald Nguyen\n\nManaging Director, French Football Federation (FFF) in China\n\nKelvin Fang\n\nManaging Director, FIBA China\n\nHélène Lemerle\n\nFounder, Didou Consulting\n\nKenneth Li\n\nPresident, Waitex Group\n\n \n\nInformation \n\nDate: 17 February 2022\nTime: 16:00 - 19:00 in Beijing / 09:00 - 12:00 in Paris\nLanguage: English\nFees: Free for Members and Audencia Alumni\nVenue: CCI FRANCE CHINE Beijing Office, Suites 201-222, 2F, Building 81, No. 4 Gongti North Road, Beijing  工体北路4号院81号楼二层201-222室\n+ Webinar\nRegistration: Scan the following QR code or click here\n \n\n\n\n \n\n报名成功后将会发送参会信息到邮箱\n\nThe connection information will be sent by email after registration
BEGIN:VALARM
ACTION:DISPLAY
TRIGGER:-PT60M
DESCRIPTION:CCI France Chine Webinar: Brave New Sport - Empowering 21st century society
END:VALARM
END:VEVENT
END:VCALENDAR