BEGIN:VCALENDAR
VERSION:2.0
X-WR-TIMEZONE:Europe/Paris
PRODID:-//Audencia//NONSGML v1.0//EN
CALSCALE:GREGORIAN
BEGIN:VEVENT
SUMMARY:Club Activités Culturelles - Visite guidée - Hôtel de la Païva
DTSTART:20220410T100000
DTEND:20220410T113000
UID:1165
DTSTAMP:20260425T210146
LOCATION:Hôtel de la Païva 25 Av. des Champs-Élysées 75008 Paris
DESCRIPTION:Le Club Activités Culturelles organise une visite guidée de l'Hôtel de la Païva le dimanche 10 avril à 10h.\n\nMagnifiquement placé sur les Champs Elysées, l'hôtel de la plus grande cocotte de Paris vous dévoile ses secrets. Escalier en onyx, cheminée de marbre ornée de bronze, grand plafond peint, chambre royale et salle de bain mauresques avec sa baignoire et ses trois robinets... Tous les fastes du Second Empire seront à vos pieds dans cet hôtel où la Païva fit travailler les artistes du Palais Garnier\n \n\n \n\nPlaces limitées, inscriptions obligatoires et n'oubliez pas le passe vaccinal !\n \n\n\n\n \n\nQuestions : nushad.merchant@audencia.com
BEGIN:VALARM
ACTION:DISPLAY
TRIGGER:-PT60M
DESCRIPTION:Club Activités Culturelles - Visite guidée - Hôtel de la Païva
END:VALARM
END:VEVENT
END:VCALENDAR