BEGIN:VCALENDAR
VERSION:2.0
X-WR-TIMEZONE:Europe/Paris
PRODID:-//Audencia//NONSGML v1.0//EN
CALSCALE:GREGORIAN
BEGIN:VEVENT
SUMMARY:MBA class of 2021 - career chat in Paris
DTSTART:20220411T190000
DTEND:20220411T203000
UID:1162
DTSTAMP:20260425T210604
LOCATION:Watch this space Venue to be confirmed!
DESCRIPTION:Audencia's career consultant Shyla du Cosquer is in Paris and would be delighted to catch up with alumni from the MBA class of 2021!\n\nCome and join her for an informal chat and career update on:\nDate: Monday 11 April\nTime: from 19:00 to 20:30\nAt: we will announce the venue ASAP and it will be central!\n\n
BEGIN:VALARM
ACTION:DISPLAY
TRIGGER:-PT60M
DESCRIPTION:MBA class of 2021 - career chat in Paris
END:VALARM
END:VEVENT
END:VCALENDAR