BEGIN:VCALENDAR
VERSION:2.0
X-WR-TIMEZONE:Europe/Paris
PRODID:-//Audencia//NONSGML v1.0//EN
CALSCALE:GREGORIAN
BEGIN:VEVENT
SUMMARY:Forum Audit & Conseil
DTSTART:20220210T133000
DTEND:20220210T180000
UID:1161
DTSTAMP:20260425T210656
LOCATION:Audencia, Route de la Jonelière
DESCRIPTION:\nVous souhaitez trouver un stage ou un emploi dans un cabinet d’audit & conseil en 2022 ou 2023 ?\nAlors n’hésitez pas ! Participez à ce forum thématique pour vous informer sur ces métiers et saisissez l'opportunité de postuler pour un stage ou un emploi.\n \n\n	Quels sont les étudiants concernés par ce forum ?\n\n\n\n	Etudiants de 1ère année et Majeures de spécialisation PGE : ce forum est une occasion unique de trouver un stage long, AIPM ou AGIR en 2022 ou 2023\n	Etudiants actuellement en stage de fin d'études ou en Mastère Spécialisé SFIR : vous recherchez votre premier emploi, les cabinets sont aussi là pour vous recruter !\n	Pour toutes et tous : une opportunité d'échanger avec des RH et opérationnels dont de nombreux diplômés d'Audencia et de développer dès à présent votre réseau professionnel.\n\n \n\n\n	Objectifs de ce forum thématique : \n\n\n\n	Vous informer sur les métiers de l'audit & du conseil\n	Echanger avec des recruteurs pour trouver un stage ou un emploi\n	Développer votre réseau avec les diplômés présents\n\n\n\n	Entreprises présentes : BDO / BAKER TILLY STREGO / BECOUZE / EY / RSM / PWC / KPMG / MAZARS / PRIMEXIS / DELOITTE / WALTER FRANCE / GRANT THORNTON\n\n\nCes entreprises recrutent également des profils internationaux francophones.\nSi vous êtes en stage actuellement : votre convention de stage (article 4) stipule que vous pourrez participer aux forums organisés par Audencia en 2022.\nPensez à prévenir dès à présent votre maître de stage si vous souhaitez participer à ce forum.\nLa brochure digitale des entreprises sera disponible prochainement sur TOMORROW.\n \nNous espérons vous voir nombreux sur cet événement et n’oubliez pas de venir avec votre CV !\n \nInscrivez-vous maintenant sur TOMORROW
BEGIN:VALARM
ACTION:DISPLAY
TRIGGER:-PT60M
DESCRIPTION:Forum Audit & Conseil
END:VALARM
END:VEVENT
END:VCALENDAR