BEGIN:VCALENDAR
VERSION:2.0
X-WR-TIMEZONE:Europe/Paris
PRODID:-//Audencia//NONSGML v1.0//EN
CALSCALE:GREGORIAN
BEGIN:VEVENT
SUMMARY:Club Culture & Management - Quels nouveaux dispositifs pour inclure les publics en situation de handicap ?
DTSTART:20220209T190000
DTEND:20220209T200000
UID:1160
DTSTAMP:20260425T210211
LOCATION:
DESCRIPTION:Depuis 1975, les lieux culturels ont l'obligation légale de prendre en compte les spécificités des publics en situation de handicap dans leurs travaux d’aménagement.\n\nMais au-delà de la mise en conformité des bâtiments, les professionnels de la culture se mobilisent pour favoriser un accès à tous aux contenus culturels et aux pratiques artistiques.\n\nQuelles sont les initiatives des lieux culturels pour garantir une meilleure adaptation aux particularités physiques, intellectuelles, cognitives, sensorielles de leurs visiteurs ?\n\nQuelles aides techniques et humaines permettent de rendre ces lieux plus accessibles ?\n\nComment ces dispositifs offrent-ils un meilleur confort d'usage des équipements culturels à l'ensemble des publics ?\n\n \n\nIntervenantes :\n\n\n	\n	Géraldine Delaforge,  Responsable du pôle accessibilité chez Universcience\n	\n	\n	Maud Dupuis, Designer spécialisée en accessibilité\n	\n	\n	Adélaïde Boulanger, Coordinatrice accessibilité chez Philharmonie de Paris\n	\n\n \n\nRéservez votre place dès maintenant !\n\n \n\nMODALITÉS PRATIQUES :\n\n\n	\n	Le webinaire démarre à 19h\n	\n	\n	Après inscription, vous recevrez un lien Zoom dans l'heure précédant le débat pour vous connecter au webinaire\n	\n	\n	Il y aura un temps pour poser des questions aux intervenants à la fin du débat\n	\n	\n	Tarif unique à 10€\n	\n\n\n \n\nAu plaisir de vous retrouver,\nL'équipe du Club Culture & Management\n\n\n
BEGIN:VALARM
ACTION:DISPLAY
TRIGGER:-PT60M
DESCRIPTION:Club Culture & Management - Quels nouveaux dispositifs pour inclure les publics en situation de handicap ?
END:VALARM
END:VEVENT
END:VCALENDAR