BEGIN:VCALENDAR
VERSION:2.0
X-WR-TIMEZONE:Europe/Paris
PRODID:-//Audencia//NONSGML v1.0//EN
CALSCALE:GREGORIAN
BEGIN:VEVENT
SUMMARY:SAI - Join the international recruitment panel for the Grande Ecole programme in Wuhan, China
DTSTART:20171030T090000
DTEND:20171030T180000
UID:116
DTSTAMP:20260426T001747
LOCATION:Wuhan, China
DESCRIPTION:Do you want to help find the next generation of successful students?\n\nIf you graduated from Audencia (all programmes) 3 or more years ago, become a panel member in Wuhan, China on October 30th.\n\n\nBe a part of the selection process and participate in the international promotion of Audencia.\nMeet for 30 minutes with 4 to 5 different candidates, talk about their project, your experiences with their future school, and fill in an evaluation grid.\nMeet alumni from other Grandes Ecoles and grow your network.\n\n​\nFor more information or to register\nSend an email to: sai@cci-paris-idf.fr
BEGIN:VALARM
ACTION:DISPLAY
TRIGGER:-PT60M
DESCRIPTION:SAI - Join the international recruitment panel for the Grande Ecole programme in Wuhan, China
END:VALARM
END:VEVENT
END:VCALENDAR