BEGIN:VCALENDAR
VERSION:2.0
X-WR-TIMEZONE:Europe/Paris
PRODID:-//Audencia//NONSGML v1.0//EN
CALSCALE:GREGORIAN
BEGIN:VEVENT
SUMMARY:CCI France Chine Event: Club Entrepreneur - Guangzhou
DTSTART:20220216T120000
DTEND:20220216T130000
UID:1159
DTSTAMP:20260425T210431
LOCATION:CCI FRANCE CHINE Guangzhou Office  Room 802. 8/F, Leatop Plaza, 32 Zhujiang East Road, Zhujiang New Town, Tianhe District Guangzhou, Guangdong, China
DESCRIPTION:Introduction\nCCI FRANCE CHINE would like to invite you to the next Entrepreneurs Club on February 16th, 2022. \nThe event aims to share your professional projects, your ideas, your experiences, or in the case that you are facing some difficulties and you would like to get some inspirations from other entrepreneurs, and a roundtable of the subjects that you would like to get more insights on during the next session of the club.\n \nInformation\nDate: Wednesday, February 16th, 2022 \nTime: 19:00 - 20:00 in China\nFees: Free for CCI FRANCE CHINE Membres & Audencia Alumni\nVenue: CCI FRANCE CHINE Guangzhou Office  Room 802. 8/F, Leatop Plaza, 32 Zhujiang East Road, Zhujiang New Town, Tianhe District Guangzhou  广州市天河区珠江新城珠江东路32号 利通广场8层02单元  \nLanguage: English \n \nAgenda\n\n19:00 – 19:10 Opening & Introduction\n19:10 – 19:45 Introduction of participants and their activities\n19:45 – 20:00 Free discussion and exchanges\n \n\nCoordinators\n\n\n	\n		\n			 \n		\n		\n			 \n			 \n		\n		\n			\n			\n			Jean Christophe ROINNE\n\n			Branch Manager, HI-COM\n\n			 \n			\n		\n		\n			 \n			 \n		\n		\n			 \n			 \n		\n		\n			\n			\n			Aurelien LIENARD\n\n			Founder and CEO, LA MEDINA\n\n			 \n			\n		\n	\n\n\n\nRegistration \n\nScan the following QR code or click here \n\n
BEGIN:VALARM
ACTION:DISPLAY
TRIGGER:-PT60M
DESCRIPTION:CCI France Chine Event: Club Entrepreneur - Guangzhou
END:VALARM
END:VEVENT
END:VCALENDAR