BEGIN:VCALENDAR
VERSION:2.0
X-WR-TIMEZONE:Europe/Paris
PRODID:-//Audencia//NONSGML v1.0//EN
CALSCALE:GREGORIAN
BEGIN:VEVENT
SUMMARY:CCI France Chine Event: Club Entrepreneur - Shenzhen
DTSTART:20220216T120000
DTEND:20220216T130000
UID:1158
DTSTAMP:20260425T210406
LOCATION:CCI FRANCE CHINE Shenzhen Office  Room 218, 2/F, Phase 1, Chinese Overseas Scholars Venture Building, No. 3170 Keyuan South Road, Nanshan District, Shenzhen, China
DESCRIPTION:Introduction\nCCI FRANCE CHINE would like to invite you to the next Entrepreneurs Club on February 16th, 2022. \nThe event aims to share your professional projects, your ideas, your experiences, or in the case that you are facing some difficulties and you would like to get some inspirations from other entrepreneurs, and a roundtable of the subjects that you would like to get more insights on during the next session of the club.\n \nInformation\nDate: Wednesday, February 16th, 2022 \nTime: 19:00 - 20:00 in China\nFees: Free for CCI FRANCE CHINE Membres & Audencia Alumni\nVenue: CCI FRANCE CHINE Shenzhen Office  Room 218, 2/F, Phase 1, Chinese Overseas Scholars Venture Building, No. 3170 Keyuan South Road, Nanshan District, Shenzhen  深圳市南山区科苑南路3170号留学生创业大厦一期2楼218室  \nLanguage: English \n \nAgenda\n\n19:00 – 19:10 Opening & Introduction\n19:10 – 19:45 Introduction of participants and their activities\n19:45 – 20:00 Free discussion and exchanges\n \n\nCoordinators\n\n\n	\n		\n			 \n		\n		\n			 \n			 \n		\n		\n			\n			\n			Jean Christophe ROINNE\n\n			Branch Manager, HI-COM\n\n			 \n			\n		\n		\n			 \n			 \n		\n		\n			 \n			 \n		\n		\n			\n			\n			Aurelien LIENARD\n\n			Founder and CEO, LA MEDINA\n\n			 \n			\n		\n	\n\n\nRegistration \nScan the following QR code or click here\n\n
BEGIN:VALARM
ACTION:DISPLAY
TRIGGER:-PT60M
DESCRIPTION:CCI France Chine Event: Club Entrepreneur - Shenzhen
END:VALARM
END:VEVENT
END:VCALENDAR