BEGIN:VCALENDAR
VERSION:2.0
X-WR-TIMEZONE:Europe/Paris
PRODID:-//Audencia//NONSGML v1.0//EN
CALSCALE:GREGORIAN
BEGIN:VEVENT
SUMMARY:Webinar: Gorick Ng on mastering the unspoken rules of work
DTSTART:20220324T160000
DTEND:20220324T170000
UID:1157
DTSTAMP:20260425T210540
LOCATION:
DESCRIPTION:DATE: Thursday 24 March 2022\nTIME: 16:00 to 17:00 Paris time\n\nEveryone understands that starting a new job, or working in a new field, is a learning exercise. Too often though, we obsess about the formal requirements of the job but overlook the “unspoken” rules which matter even more.\n\nIn this webinar, Gorick Ng, (bestselling author, Harvard MBA and careers adviser at Harvard College) explains how to master the unspoken rules of the workplace and avoid the accidents that send careers off track.\n\nBased on more than 500 interviews, Gorick will highlight the critical issues that trip people up in new environments and shows how to accident proof your early career.\n\nWe will discuss:\n\n\n	How to find out what organisations really value (and pay you for).How to spot conflicts early (and defuse them).\n	How to read your manager, even when they are not explicit about what they need.\n	How to discover the real organisation hierarchy (even in “non-hierarchical” organisations).\n	Why you need to clarify expectations (and keep clarifying them) in every job.\n	Preparation hacks you can build into your routine to be on top of meetings, schedules and projects.\n	How to get vital feedback even if your manager does not want to provide it.\n\n\n \n\nREGISTRATION\nWe have 200 free tickets for Audencia's alumni and students\n(use code "AUD-student" if ticket does not show)\n\n \n\n\n \n\n\n\nAUDENCIA's WEBINAR LIBRARY\nUnlimited access for Audencia students and alumni\nWe are delighted to offer all Audencia students and alumni access to a library of careers webinars featuring world-class management thinkers like Steve Dalton, Dorie Clark and Daniel Porot.\n\nAll Audencia alumni and students now have unlimited access to the portal which includes:\n\n	Advice on, job-hunting and interviewing, international and portfolio careers and how to be a better boss\n	Videos optimised for mobiles and tablets\n	Unlimited – free online access to all Audencia students and alumni\n\n\nRegister for your individual account here: https://www.AlumniExtra.com/audencia/\n \n \n\n 
BEGIN:VALARM
ACTION:DISPLAY
TRIGGER:-PT60M
DESCRIPTION:Webinar: Gorick Ng on mastering the unspoken rules of work
END:VALARM
END:VEVENT
END:VCALENDAR