BEGIN:VCALENDAR
VERSION:2.0
X-WR-TIMEZONE:Europe/Paris
PRODID:-//Audencia//NONSGML v1.0//EN
CALSCALE:GREGORIAN
BEGIN:VEVENT
SUMMARY:Table-ronde - Femmes & leadership responsable #1 - Brisons le plafond de verre !
DTSTART:20220131T180000
DTEND:20220131T190000
UID:1156
DTSTAMP:20260425T210438
LOCATION:
DESCRIPTION:\n\n\nParticipez à la 1ère Table Ronde d'Audencia "Femmes & Leadership Responsable" sur le thème "Brisons le plafond de verre".\nExperts, dirigeants, diplômés et responsables formations seront présents lors de ce nouveaux rendez-vous dédié à la place des femmes dans leur environnement professionnel.\n\nPlusieurs sujets seront abordés lors de cet échange :\n\n\n	#NégoTraining : Quel est ce module de formation gratuit qui accompagne à la négociation salariale des femmes ? Suivis de la conclusion #3 de l'impact du dispositif par la Chaire Impact Positif d'Audencia.\n	Parcours Emergence, élaboré par le cabinet KPMG pour ses collaboratrices dans le but de développer leur leadership.\n	Qu'est-ce que la "Bourse Leader au féminin" ?\n	Découvrez notre Executive MBA, une formation pour les (futurs) femmes dirigeantes !\n\n\nAlors, conquises ?\n\nN'attendez plus et \ninscrivez-vous ici !\n\n\nPour plus d'informations :\nAnne Villate \navillate@audencia.com\n06 49 01 25 58
BEGIN:VALARM
ACTION:DISPLAY
TRIGGER:-PT60M
DESCRIPTION:Table-ronde - Femmes & leadership responsable #1 - Brisons le plafond de verre !
END:VALARM
END:VEVENT
END:VCALENDAR