BEGIN:VCALENDAR
VERSION:2.0
X-WR-TIMEZONE:Europe/Paris
PRODID:-//Audencia//NONSGML v1.0//EN
CALSCALE:GREGORIAN
BEGIN:VEVENT
SUMMARY:DBA & MBA conference & cocktail in Nantes
DTSTART:20220317T190000
DTEND:20220317T223000
UID:1155
DTSTAMP:20260425T210326
LOCATION:Audencia Atlantic Campus 8 route de la Jonelière 44312 Nantes
DESCRIPTION:Dear DBAs & MBAs past and present,\n\nWe are delighted to invite you to Audencia's historic Atlantic Campus for an event dedicated to the DBA & MBA Community on:\n \nThursday 17 March 2022\nfrom 19:00 to 22:30\n\n\n\nProgramme:\n19:00-19:30 Guests arrive, registration (and "pass vaccinal")\n19:30-20:00 Welcome message and latest news from the Dean & DBA-MBA programme directors\n20:00-21:00 Alumni debate: key challenges for impact-related projects with guest speakers\n\n\n	Anass Al Allouch, DBA ongoing, Group Director Corporate Communications, Oman Aviation Group\n	Stefan Gallard, MBA 13, Marketing Director, Grain de Sail & Co-Founder, Loop Dee Science\n	Solene Hascoet, ExecMBA 19, Consultant and associate, KPI4Change\n	Moderated by: Sandra Khawand, MBA ongoing\n\n\n21:00-22:30 ​Cocktail and networking\n\nRegistration mandatory\nThis invitation is valid for members of Audencia's DBA & MBA Community only\n\n \n\n\nMessage for distance attendees\nPlease join us from 19:30 to 21:00 \nfor the welcome message & alumni debate\nvia this link (Teams)\n\n\nIf you have any questions, drop a line to Katie Francois / kfrancois@audencia.com\n\n
BEGIN:VALARM
ACTION:DISPLAY
TRIGGER:-PT60M
DESCRIPTION:DBA & MBA conference & cocktail in Nantes
END:VALARM
END:VEVENT
END:VCALENDAR