BEGIN:VCALENDAR
VERSION:2.0
X-WR-TIMEZONE:Europe/Paris
PRODID:-//Audencia//NONSGML v1.0//EN
CALSCALE:GREGORIAN
BEGIN:VEVENT
SUMMARY:Club Activités Culturelles - Visite guidée - Saint Germain des Prés
DTSTART:20220618T110000
DTEND:20220618T123000
UID:1153
DTSTAMP:20260425T210604
LOCATION:Saint-Germain-des-Prés Paris
DESCRIPTION:Le Club Activités Culturelles organise une visite guidée de Saint Germain des Prés le samedi 18 juin à 11h. \n\nSaint Germain des Prés a grandi à l'ombre de l'abbaye dont l'indépendance intellectuelle et théologique attira très tôt les écrivains. Ainsi, philosophes, encyclopédistes, romantiques et existentialistes imprégnèrent ce quartier de leur idées et de leurs habitudes: cafés littéraires, terrasses célèbres, maisons d'édition, jardins secrets ou boîtes de nuit. Voltaire, Marat, George Sand , Picasso, Albert Camus, Boris Vian, Juliette Greco, Jean Paul Sartre et bien d'autres encore ont hanté ces rues...\n \n\nPlaces limitées, inscriptions obligatoires !\n\n\n\n\n \n\nQuestions : nushad.merchant@audencia.com
BEGIN:VALARM
ACTION:DISPLAY
TRIGGER:-PT60M
DESCRIPTION:Club Activités Culturelles - Visite guidée - Saint Germain des Prés
END:VALARM
END:VEVENT
END:VCALENDAR