BEGIN:VCALENDAR
VERSION:2.0
X-WR-TIMEZONE:Europe/Paris
PRODID:-//Audencia//NONSGML v1.0//EN
CALSCALE:GREGORIAN
BEGIN:VEVENT
SUMMARY:Club Activités Culturelles - Visite guidée - Cimetière du Père Lachaise
DTSTART:20220514T110000
DTEND:20220514T123000
UID:1152
DTSTAMP:20260425T210124
LOCATION:Cimetière du Père-Lachaise Paris
DESCRIPTION:Le Club Activités Culturelles organise une visite guidée de l'Île Saint Louis le samedi 9 avril à 11h.\n \n\nDe Maria Calas à Sarah Bernhardt, Edith Piaf, Victor Noir, Simone Signoret, Marcel Proust, Apollinaire, madame Sans Gêne, Chopin, Cherubini, Desproges, Pettruciani et de nombreuses autres tombes vous seront dévoilées, avec un commentaire sur celui qui y reposent. Une façon merveilleuse et ludique de découvrir ces musée des grands noms de la culture française.\n \n\nPlaces limitées, inscriptions obligatoires et n'oubliez pas le passe sanitaire !\n\n\n\n \n\nQuestions : nushad.merchant@audencia.com
BEGIN:VALARM
ACTION:DISPLAY
TRIGGER:-PT60M
DESCRIPTION:Club Activités Culturelles - Visite guidée - Cimetière du Père Lachaise
END:VALARM
END:VEVENT
END:VCALENDAR